BEGIN:VCALENDAR
VERSION:2.0
PRODID:-//Cosolargy - ECPv6.9.0//NONSGML v1.0//EN
CALSCALE:GREGORIAN
METHOD:PUBLISH
X-ORIGINAL-URL:https://cosolargy.org
X-WR-CALDESC:Events for Cosolargy
REFRESH-INTERVAL;VALUE=DURATION:PT1H
X-Robots-Tag:noindex
X-PUBLISHED-TTL:PT1H
BEGIN:VTIMEZONE
TZID:America/Los_Angeles
BEGIN:DAYLIGHT
TZOFFSETFROM:-0800
TZOFFSETTO:-0700
TZNAME:PDT
DTSTART:20200308T100000
END:DAYLIGHT
BEGIN:STANDARD
TZOFFSETFROM:-0700
TZOFFSETTO:-0800
TZNAME:PST
DTSTART:20201101T090000
END:STANDARD
END:VTIMEZONE
BEGIN:VEVENT
DTSTART;TZID=America/Los_Angeles:20200410T080000
DTEND;TZID=America/Los_Angeles:20200515T170000
DTSTAMP:20260421T222403
CREATED:20200410T130525Z
LAST-MODIFIED:20200410T130525Z
UID:10044-1586505600-1589562000@cosolargy.org
SUMMARY:New Listing for Steamboat Hot Springs
DESCRIPTION:Our Steamboat Hot Springs facility has been listed on the Reno-Tahoe Website. Here is a brief excerpt from the article. \nSteamboat Hot Springs Healing Center & Spa is Reno’s only mineral hot springs. A registered state historic landmark\, Steamboat features geothermal water for soaking combined with the relaxation of a spa. Considered a local treasure—a therapeutic respite in the high desert of the West—Steamboat’s famous natural volcanic waters are chock-full of rare\, health-boosting minerals found nowhere else in North America. \nClick the event website link to read the complete article.
URL:https://cosolargy.org/event/new-listing-for-steamboat-hot-springs/
ATTACH;FMTTYPE=image/jpeg:https://cosolargy.org/wp-content/uploads/2019/03/Steamboat-Building-hero.jpg
END:VEVENT
END:VCALENDAR