BEGIN:VCALENDAR
VERSION:2.0
PRODID:-//Cosolargy - ECPv6.9.0//NONSGML v1.0//EN
CALSCALE:GREGORIAN
METHOD:PUBLISH
X-ORIGINAL-URL:https://cosolargy.org
X-WR-CALDESC:Events for Cosolargy
REFRESH-INTERVAL;VALUE=DURATION:PT1H
X-Robots-Tag:noindex
X-PUBLISHED-TTL:PT1H
BEGIN:VTIMEZONE
TZID:America/Los_Angeles
BEGIN:DAYLIGHT
TZOFFSETFROM:-0800
TZOFFSETTO:-0700
TZNAME:PDT
DTSTART:20210314T100000
END:DAYLIGHT
BEGIN:STANDARD
TZOFFSETFROM:-0700
TZOFFSETTO:-0800
TZNAME:PST
DTSTART:20211107T090000
END:STANDARD
END:VTIMEZONE
BEGIN:VEVENT
DTSTART;VALUE=DATE:20210606
DTEND;VALUE=DATE:20210607
DTSTAMP:20260422T135020
CREATED:20190326T182647Z
LAST-MODIFIED:20190326T182647Z
UID:9183-1622937600-1623023999@cosolargy.org
SUMMARY:Sunrise Service
DESCRIPTION:Service begins 30 minutes before sunrise. Please consult the local sunrise time to find the correct time to arrive. \nPublic welcome by invitation. Contact us by phone and/or email. \nFor 40 years community members have enjoyed the serenity of this unique desert Sanctuary spread over 1\,200 acres in a mountain valley only 20 minutes from downtown Reno\, where we meet for beautiful sunrises and Community fellowship. The place to go for optimal sun gazing\, to be near nature and for healing the spirit. We participate in open-air services at sunrise at the Red Rock Consecrated Sanctuary.
URL:https://cosolargy.org/event/sunrise-service-2021-06-06/
LOCATION:Red Rock Sanctuary\, Reno\, NV\, United States
END:VEVENT
BEGIN:VEVENT
DTSTART;TZID=America/Los_Angeles:20210606T060000
DTEND;TZID=America/Los_Angeles:20210606T170000
DTSTAMP:20260422T135020
CREATED:20210518T080022Z
LAST-MODIFIED:20210518T154432Z
UID:10833-1622959200-1622998800@cosolargy.org
SUMMARY:Cosolargy Conference 2021 Part I
DESCRIPTION:COSOLARGY VIRTUAL CONFERENCE\n\nDue to the ongoing COVID restrictions\, we cannot hold a normal Convocation this year\, so we are doing a short virtual one instead. This conference is for active Cosolargy students only.\n\nThe 2021 Cosolargy Conference will be in two parts. The first part will happen on June 6th. On that date\, the Sunrise Divine Service\, breakfast at the parsonage at the Sanctuary\, and the State of The Community address by the Right Reverend Gene Savoy\, Jr. will be posted on the Facebook Cosolargy Forum. If you are not already a member of the Cosolargy Forum\, you will need to join before you can view the videos. If you have never used zoom\, click here to view a video on how to join a Zoom session.\n\nThe second part will be on June 12th. Go to that date in the Event Calendar to read the details.
URL:https://cosolargy.org/event/cosolargy-conference-2021/
END:VEVENT
END:VCALENDAR