BEGIN:VCALENDAR
VERSION:2.0
PRODID:-//Cosolargy - ECPv6.9.0//NONSGML v1.0//EN
CALSCALE:GREGORIAN
METHOD:PUBLISH
X-WR-CALNAME:Cosolargy
X-ORIGINAL-URL:https://cosolargy.org
X-WR-CALDESC:Events for Cosolargy
REFRESH-INTERVAL;VALUE=DURATION:PT1H
X-Robots-Tag:noindex
X-PUBLISHED-TTL:PT1H
BEGIN:VTIMEZONE
TZID:America/Los_Angeles
BEGIN:DAYLIGHT
TZOFFSETFROM:-0800
TZOFFSETTO:-0700
TZNAME:PDT
DTSTART:20210314T100000
END:DAYLIGHT
BEGIN:STANDARD
TZOFFSETFROM:-0700
TZOFFSETTO:-0800
TZNAME:PST
DTSTART:20211107T090000
END:STANDARD
END:VTIMEZONE
BEGIN:VEVENT
DTSTART;TZID=America/Los_Angeles:20210612T100000
DTEND;TZID=America/Los_Angeles:20210612T110000
DTSTAMP:20260422T150946
CREATED:20190416T020848Z
LAST-MODIFIED:20200319T113906Z
UID:9191-1623492000-1623495600@cosolargy.org
SUMMARY:Saturday Communion of Fellowship
DESCRIPTION:Temporarily Suspended due to the coronavirus. \nOpen to the public. For details call 775-786-7827
URL:https://cosolargy.org/event/communion-of-fellowship-2021-06-12/
LOCATION:Chapel of the Holy Child\, 643 Ralston Street\, Reno\, NV\, 89503\, United States
END:VEVENT
BEGIN:VEVENT
DTSTART;TZID=America/Los_Angeles:20210612T140000
DTEND;TZID=America/Los_Angeles:20210612T160000
DTSTAMP:20260422T150946
CREATED:20210517T214225Z
LAST-MODIFIED:20210517T214225Z
UID:10875-1623506400-1623513600@cosolargy.org
SUMMARY:Cosolargy Conference 2021 Part II
DESCRIPTION:The second part will be a live Zoom session on June 12th at 2:00 PM (PDT). The session will include several pre-recorded videos. At this time\, the list of planned video presentations includes:\n\n\nA photographic tour of Red Rock Consecrated Sanctuary.\nA tour of the newly repaired Cathedral Church of the Americas.\nA tour of the Sanctuary guest suite that is under remodel.\nA visit to the Gene Savoy\, Sr. Museum.\nA video about our Steamboat Hot Springs Healing Center.\nA video from our Community in Japan.\nA tour of our property on the Gulf of California in Baja California.\n\n\n\nYou will be able to submit questions on the State of The Community address and on the concepts of Cosolargy that staff members can address during the live Zoom session. If you wish to submit a question\, just reply to this email\, or use the contact form on the Cosolargy website.\nSee June 6th in the Event Calendar for a description of part I.
URL:https://cosolargy.org/event/cosolargy-conference-2021-part-ii/
END:VEVENT
END:VCALENDAR