BEGIN:VCALENDAR
VERSION:2.0
PRODID:-//Cosolargy - ECPv6.9.0//NONSGML v1.0//EN
CALSCALE:GREGORIAN
METHOD:PUBLISH
X-WR-CALNAME:Cosolargy
X-ORIGINAL-URL:https://cosolargy.org
X-WR-CALDESC:Events for Cosolargy
REFRESH-INTERVAL;VALUE=DURATION:PT1H
X-Robots-Tag:noindex
X-PUBLISHED-TTL:PT1H
BEGIN:VTIMEZONE
TZID:America/Los_Angeles
BEGIN:DAYLIGHT
TZOFFSETFROM:-0800
TZOFFSETTO:-0700
TZNAME:PDT
DTSTART:20230312T100000
END:DAYLIGHT
BEGIN:STANDARD
TZOFFSETFROM:-0700
TZOFFSETTO:-0800
TZNAME:PST
DTSTART:20231105T090000
END:STANDARD
END:VTIMEZONE
BEGIN:VEVENT
DTSTART;VALUE=DATE:20230110
DTEND;VALUE=DATE:20230126
DTSTAMP:20260425T211910
CREATED:20230110T221852Z
LAST-MODIFIED:20230110T221919Z
UID:11379-1673308800-1674691199@cosolargy.org
SUMMARY:Phone Service Outage January 10th to January 25th\, 2023
DESCRIPTION:We wish to inform you that telephone service at The Community’s Chancellery office will be out of service until at least  January 25th. \nCalls to the Chancellery will be forwarded to the mobile telephone of Elizabeth Reece in the meantime.\n\nIf you are trying to reach another of our Chancellery staff and already have that person’s mobile number\, please use that number during this time period.  We apologize for the inconvenience.  If you have further questions please send an email to nereece@communityofchrist.org.
URL:https://cosolargy.org/event/phone-service-outage-january-10th-to-january-25th-2023/
LOCATION:Chapel of the Holy Child\, 643 Ralston Street\, Reno\, NV\, 89503\, United States
ATTACH;FMTTYPE=image/jpeg:https://cosolargy.org/wp-content/uploads/2023/01/PhoneOffice.jpg
END:VEVENT
BEGIN:VEVENT
DTSTART;VALUE=DATE:20230122
DTEND;VALUE=DATE:20230123
DTSTAMP:20260425T211910
CREATED:20190326T182647Z
LAST-MODIFIED:20190326T182647Z
UID:10681-1674345600-1674431999@cosolargy.org
SUMMARY:Sunrise Service
DESCRIPTION:Service begins 30 minutes before sunrise. Please consult the local sunrise time to find the correct time to arrive. \nPublic welcome by invitation. Contact us by phone and/or email. \nFor 40 years community members have enjoyed the serenity of this unique desert Sanctuary spread over 1\,200 acres in a mountain valley only 20 minutes from downtown Reno\, where we meet for beautiful sunrises and Community fellowship. The place to go for optimal sun gazing\, to be near nature and for healing the spirit. We participate in open-air services at sunrise at the Red Rock Consecrated Sanctuary.
URL:https://cosolargy.org/event/sunrise-service-2023-01-22/
LOCATION:Red Rock Sanctuary\, Reno\, NV\, United States
END:VEVENT
END:VCALENDAR