BEGIN:VCALENDAR
VERSION:2.0
PRODID:-//Cosolargy - ECPv6.9.0//NONSGML v1.0//EN
CALSCALE:GREGORIAN
METHOD:PUBLISH
X-WR-CALNAME:Cosolargy
X-ORIGINAL-URL:https://cosolargy.org
X-WR-CALDESC:Events for Cosolargy
REFRESH-INTERVAL;VALUE=DURATION:PT1H
X-Robots-Tag:noindex
X-PUBLISHED-TTL:PT1H
BEGIN:VTIMEZONE
TZID:America/Los_Angeles
BEGIN:DAYLIGHT
TZOFFSETFROM:-0800
TZOFFSETTO:-0700
TZNAME:PDT
DTSTART:20200308T100000
END:DAYLIGHT
BEGIN:STANDARD
TZOFFSETFROM:-0700
TZOFFSETTO:-0800
TZNAME:PST
DTSTART:20201101T090000
END:STANDARD
END:VTIMEZONE
BEGIN:VEVENT
DTSTART;TZID=America/Los_Angeles:20200603T120000
DTEND;TZID=America/Los_Angeles:20200603T121500
DTSTAMP:20260421T203745
CREATED:20190416T022624Z
LAST-MODIFIED:20190730T235331Z
UID:9010-1591185600-1591186500@cosolargy.org
SUMMARY:Wednesday Communion of Fellowship
DESCRIPTION:Come join us on Wednesdays at 12pm Noon for our Communion of Fellowship at the Chapel of the Holy Child. \nChapel of the Holy Child\n643 Ralston Street\nReno\, NV 89503 United States
URL:https://cosolargy.org/event/wednesday-communion-of-fellowship-2019-04-17-2020-06-03/
LOCATION:Chapel of the Holy Child\, 643 Ralston Street\, Reno\, NV\, 89503\, United States
END:VEVENT
BEGIN:VEVENT
DTSTART;TZID=America/Los_Angeles:20200605T090000
DTEND;TZID=America/Los_Angeles:20200605T091500
DTSTAMP:20260421T203745
CREATED:20190416T023929Z
LAST-MODIFIED:20190416T023929Z
UID:8902-1591347600-1591348500@cosolargy.org
SUMMARY:Friday Prayer & Fellowship Service
DESCRIPTION:Join us every Friday at the Chapel of Roses located at Steamboat Hotsprings for Friday Prayer & Fellowship Service. \nSteamboat Hotsprings\n16010 S. Virginia Street\nReno\, NV 89521\nSteamboat website: https://steamboatsprings.org/
URL:https://cosolargy.org/event/friday-prayer-fellowship-service-2020-06-05/
LOCATION:Chapel of the Roses: Steamboat Hotsprings\, 16010 S. Virginia Street\, Reno\, NV\, 89521\, United States
END:VEVENT
BEGIN:VEVENT
DTSTART;TZID=America/Los_Angeles:20200606T100000
DTEND;TZID=America/Los_Angeles:20200606T110000
DTSTAMP:20260421T203745
CREATED:20190416T020848Z
LAST-MODIFIED:20200319T113843Z
UID:9101-1591437600-1591441200@cosolargy.org
SUMMARY:Saturday Communion of Fellowship
DESCRIPTION:Temporarily Suspended due to the coronavirus. \nOpen to the public. For details call 775-786-7827
URL:https://cosolargy.org/event/communion-of-fellowship-2020-06-06/
LOCATION:Chapel of the Holy Child\, 643 Ralston Street\, Reno\, NV\, 89503\, United States
END:VEVENT
BEGIN:VEVENT
DTSTART;VALUE=DATE:20200607
DTEND;VALUE=DATE:20200608
DTSTAMP:20260421T203745
CREATED:20190326T182647Z
LAST-MODIFIED:20190326T182647Z
UID:8795-1591488000-1591574399@cosolargy.org
SUMMARY:Sunrise Service
DESCRIPTION:Service begins 30 minutes before sunrise. Please consult the local sunrise time to find the correct time to arrive. \nPublic welcome by invitation. Contact us by phone and/or email. \nFor 40 years community members have enjoyed the serenity of this unique desert Sanctuary spread over 1\,200 acres in a mountain valley only 20 minutes from downtown Reno\, where we meet for beautiful sunrises and Community fellowship. The place to go for optimal sun gazing\, to be near nature and for healing the spirit. We participate in open-air services at sunrise at the Red Rock Consecrated Sanctuary.
URL:https://cosolargy.org/event/sunrise-service-2020-06-07/
LOCATION:Red Rock Sanctuary\, Reno\, NV\, United States
END:VEVENT
BEGIN:VEVENT
DTSTART;TZID=America/Los_Angeles:20200610T120000
DTEND;TZID=America/Los_Angeles:20200610T121500
DTSTAMP:20260421T203745
CREATED:20190416T022624Z
LAST-MODIFIED:20190730T235332Z
UID:9011-1591790400-1591791300@cosolargy.org
SUMMARY:Wednesday Communion of Fellowship
DESCRIPTION:Come join us on Wednesdays at 12pm Noon for our Communion of Fellowship at the Chapel of the Holy Child. \nChapel of the Holy Child\n643 Ralston Street\nReno\, NV 89503 United States
URL:https://cosolargy.org/event/wednesday-communion-of-fellowship-2019-04-17-2020-06-10/
LOCATION:Chapel of the Holy Child\, 643 Ralston Street\, Reno\, NV\, 89503\, United States
END:VEVENT
BEGIN:VEVENT
DTSTART;TZID=America/Los_Angeles:20200612T090000
DTEND;TZID=America/Los_Angeles:20200612T091500
DTSTAMP:20260421T203745
CREATED:20190416T023929Z
LAST-MODIFIED:20190416T023929Z
UID:8903-1591952400-1591953300@cosolargy.org
SUMMARY:Friday Prayer & Fellowship Service
DESCRIPTION:Join us every Friday at the Chapel of Roses located at Steamboat Hotsprings for Friday Prayer & Fellowship Service. \nSteamboat Hotsprings\n16010 S. Virginia Street\nReno\, NV 89521\nSteamboat website: https://steamboatsprings.org/
URL:https://cosolargy.org/event/friday-prayer-fellowship-service-2020-06-12/
LOCATION:Chapel of the Roses: Steamboat Hotsprings\, 16010 S. Virginia Street\, Reno\, NV\, 89521\, United States
END:VEVENT
BEGIN:VEVENT
DTSTART;TZID=America/Los_Angeles:20200613T100000
DTEND;TZID=America/Los_Angeles:20200613T110000
DTSTAMP:20260421T203745
CREATED:20190416T020848Z
LAST-MODIFIED:20200319T113844Z
UID:9102-1592042400-1592046000@cosolargy.org
SUMMARY:Saturday Communion of Fellowship
DESCRIPTION:Temporarily Suspended due to the coronavirus. \nOpen to the public. For details call 775-786-7827
URL:https://cosolargy.org/event/communion-of-fellowship-2020-06-13/
LOCATION:Chapel of the Holy Child\, 643 Ralston Street\, Reno\, NV\, 89503\, United States
END:VEVENT
BEGIN:VEVENT
DTSTART;VALUE=DATE:20200614
DTEND;VALUE=DATE:20200615
DTSTAMP:20260421T203745
CREATED:20190326T182647Z
LAST-MODIFIED:20190326T182647Z
UID:8796-1592092800-1592179199@cosolargy.org
SUMMARY:Sunrise Service
DESCRIPTION:Service begins 30 minutes before sunrise. Please consult the local sunrise time to find the correct time to arrive. \nPublic welcome by invitation. Contact us by phone and/or email. \nFor 40 years community members have enjoyed the serenity of this unique desert Sanctuary spread over 1\,200 acres in a mountain valley only 20 minutes from downtown Reno\, where we meet for beautiful sunrises and Community fellowship. The place to go for optimal sun gazing\, to be near nature and for healing the spirit. We participate in open-air services at sunrise at the Red Rock Consecrated Sanctuary.
URL:https://cosolargy.org/event/sunrise-service-2020-06-14/
LOCATION:Red Rock Sanctuary\, Reno\, NV\, United States
END:VEVENT
BEGIN:VEVENT
DTSTART;TZID=America/Los_Angeles:20200617T120000
DTEND;TZID=America/Los_Angeles:20200617T121500
DTSTAMP:20260421T203745
CREATED:20190416T022624Z
LAST-MODIFIED:20190730T235333Z
UID:9012-1592395200-1592396100@cosolargy.org
SUMMARY:Wednesday Communion of Fellowship
DESCRIPTION:Come join us on Wednesdays at 12pm Noon for our Communion of Fellowship at the Chapel of the Holy Child. \nChapel of the Holy Child\n643 Ralston Street\nReno\, NV 89503 United States
URL:https://cosolargy.org/event/wednesday-communion-of-fellowship-2019-04-17-2020-06-17/
LOCATION:Chapel of the Holy Child\, 643 Ralston Street\, Reno\, NV\, 89503\, United States
END:VEVENT
BEGIN:VEVENT
DTSTART;TZID=America/Los_Angeles:20200619T090000
DTEND;TZID=America/Los_Angeles:20200619T091500
DTSTAMP:20260421T203745
CREATED:20190416T023929Z
LAST-MODIFIED:20190416T023929Z
UID:8904-1592557200-1592558100@cosolargy.org
SUMMARY:Friday Prayer & Fellowship Service
DESCRIPTION:Join us every Friday at the Chapel of Roses located at Steamboat Hotsprings for Friday Prayer & Fellowship Service. \nSteamboat Hotsprings\n16010 S. Virginia Street\nReno\, NV 89521\nSteamboat website: https://steamboatsprings.org/
URL:https://cosolargy.org/event/friday-prayer-fellowship-service-2020-06-19/
LOCATION:Chapel of the Roses: Steamboat Hotsprings\, 16010 S. Virginia Street\, Reno\, NV\, 89521\, United States
END:VEVENT
BEGIN:VEVENT
DTSTART;TZID=America/Los_Angeles:20200620T100000
DTEND;TZID=America/Los_Angeles:20200620T110000
DTSTAMP:20260421T203745
CREATED:20190416T020848Z
LAST-MODIFIED:20200319T113844Z
UID:9103-1592647200-1592650800@cosolargy.org
SUMMARY:Saturday Communion of Fellowship
DESCRIPTION:Temporarily Suspended due to the coronavirus. \nOpen to the public. For details call 775-786-7827
URL:https://cosolargy.org/event/communion-of-fellowship-2020-06-20/
LOCATION:Chapel of the Holy Child\, 643 Ralston Street\, Reno\, NV\, 89503\, United States
END:VEVENT
BEGIN:VEVENT
DTSTART;VALUE=DATE:20200621
DTEND;VALUE=DATE:20200622
DTSTAMP:20260421T203745
CREATED:20190326T182647Z
LAST-MODIFIED:20190326T182647Z
UID:8797-1592697600-1592783999@cosolargy.org
SUMMARY:Sunrise Service
DESCRIPTION:Service begins 30 minutes before sunrise. Please consult the local sunrise time to find the correct time to arrive. \nPublic welcome by invitation. Contact us by phone and/or email. \nFor 40 years community members have enjoyed the serenity of this unique desert Sanctuary spread over 1\,200 acres in a mountain valley only 20 minutes from downtown Reno\, where we meet for beautiful sunrises and Community fellowship. The place to go for optimal sun gazing\, to be near nature and for healing the spirit. We participate in open-air services at sunrise at the Red Rock Consecrated Sanctuary.
URL:https://cosolargy.org/event/sunrise-service-2020-06-21/
LOCATION:Red Rock Sanctuary\, Reno\, NV\, United States
END:VEVENT
BEGIN:VEVENT
DTSTART;TZID=America/Los_Angeles:20200624T120000
DTEND;TZID=America/Los_Angeles:20200624T121500
DTSTAMP:20260421T203745
CREATED:20190416T022624Z
LAST-MODIFIED:20190730T235333Z
UID:9013-1593000000-1593000900@cosolargy.org
SUMMARY:Wednesday Communion of Fellowship
DESCRIPTION:Come join us on Wednesdays at 12pm Noon for our Communion of Fellowship at the Chapel of the Holy Child. \nChapel of the Holy Child\n643 Ralston Street\nReno\, NV 89503 United States
URL:https://cosolargy.org/event/wednesday-communion-of-fellowship-2019-04-17-2020-06-24/
LOCATION:Chapel of the Holy Child\, 643 Ralston Street\, Reno\, NV\, 89503\, United States
END:VEVENT
BEGIN:VEVENT
DTSTART;TZID=America/Los_Angeles:20200626T090000
DTEND;TZID=America/Los_Angeles:20200626T091500
DTSTAMP:20260421T203745
CREATED:20190416T023929Z
LAST-MODIFIED:20190416T023929Z
UID:8905-1593162000-1593162900@cosolargy.org
SUMMARY:Friday Prayer & Fellowship Service
DESCRIPTION:Join us every Friday at the Chapel of Roses located at Steamboat Hotsprings for Friday Prayer & Fellowship Service. \nSteamboat Hotsprings\n16010 S. Virginia Street\nReno\, NV 89521\nSteamboat website: https://steamboatsprings.org/
URL:https://cosolargy.org/event/friday-prayer-fellowship-service-2020-06-26/
LOCATION:Chapel of the Roses: Steamboat Hotsprings\, 16010 S. Virginia Street\, Reno\, NV\, 89521\, United States
END:VEVENT
BEGIN:VEVENT
DTSTART;TZID=America/Los_Angeles:20200627T100000
DTEND;TZID=America/Los_Angeles:20200627T110000
DTSTAMP:20260421T203745
CREATED:20190416T020848Z
LAST-MODIFIED:20200319T113844Z
UID:9104-1593252000-1593255600@cosolargy.org
SUMMARY:Saturday Communion of Fellowship
DESCRIPTION:Temporarily Suspended due to the coronavirus. \nOpen to the public. For details call 775-786-7827
URL:https://cosolargy.org/event/communion-of-fellowship-2020-06-27/
LOCATION:Chapel of the Holy Child\, 643 Ralston Street\, Reno\, NV\, 89503\, United States
END:VEVENT
BEGIN:VEVENT
DTSTART;VALUE=DATE:20200628
DTEND;VALUE=DATE:20200629
DTSTAMP:20260421T203745
CREATED:20190326T182647Z
LAST-MODIFIED:20190326T182647Z
UID:8798-1593302400-1593388799@cosolargy.org
SUMMARY:Sunrise Service
DESCRIPTION:Service begins 30 minutes before sunrise. Please consult the local sunrise time to find the correct time to arrive. \nPublic welcome by invitation. Contact us by phone and/or email. \nFor 40 years community members have enjoyed the serenity of this unique desert Sanctuary spread over 1\,200 acres in a mountain valley only 20 minutes from downtown Reno\, where we meet for beautiful sunrises and Community fellowship. The place to go for optimal sun gazing\, to be near nature and for healing the spirit. We participate in open-air services at sunrise at the Red Rock Consecrated Sanctuary.
URL:https://cosolargy.org/event/sunrise-service-2020-06-28/
LOCATION:Red Rock Sanctuary\, Reno\, NV\, United States
END:VEVENT
END:VCALENDAR