BEGIN:VCALENDAR
VERSION:2.0
PRODID:-//Cosolargy - ECPv6.9.0//NONSGML v1.0//EN
CALSCALE:GREGORIAN
METHOD:PUBLISH
X-ORIGINAL-URL:https://cosolargy.org
X-WR-CALDESC:Events for Cosolargy
REFRESH-INTERVAL;VALUE=DURATION:PT1H
X-Robots-Tag:noindex
X-PUBLISHED-TTL:PT1H
BEGIN:VTIMEZONE
TZID:America/Los_Angeles
BEGIN:DAYLIGHT
TZOFFSETFROM:-0800
TZOFFSETTO:-0700
TZNAME:PDT
DTSTART:20200308T100000
END:DAYLIGHT
BEGIN:STANDARD
TZOFFSETFROM:-0700
TZOFFSETTO:-0800
TZNAME:PST
DTSTART:20201101T090000
END:STANDARD
END:VTIMEZONE
BEGIN:VEVENT
DTSTART;TZID=America/Los_Angeles:20201002T090000
DTEND;TZID=America/Los_Angeles:20201002T091500
DTSTAMP:20260422T030544
CREATED:20190416T023929Z
LAST-MODIFIED:20190416T023929Z
UID:8919-1601629200-1601630100@cosolargy.org
SUMMARY:Friday Prayer & Fellowship Service
DESCRIPTION:Join us every Friday at the Chapel of Roses located at Steamboat Hotsprings for Friday Prayer & Fellowship Service. \nSteamboat Hotsprings\n16010 S. Virginia Street\nReno\, NV 89521\nSteamboat website: https://steamboatsprings.org/
URL:https://cosolargy.org/event/friday-prayer-fellowship-service-2020-10-02/
LOCATION:Chapel of the Roses: Steamboat Hotsprings\, 16010 S. Virginia Street\, Reno\, NV\, 89521\, United States
END:VEVENT
BEGIN:VEVENT
DTSTART;TZID=America/Los_Angeles:20201003T100000
DTEND;TZID=America/Los_Angeles:20201003T110000
DTSTAMP:20260422T030544
CREATED:20190416T020848Z
LAST-MODIFIED:20200319T113850Z
UID:9118-1601719200-1601722800@cosolargy.org
SUMMARY:Saturday Communion of Fellowship
DESCRIPTION:Temporarily Suspended due to the coronavirus. \nOpen to the public. For details call 775-786-7827
URL:https://cosolargy.org/event/communion-of-fellowship-2020-10-03/
LOCATION:Chapel of the Holy Child\, 643 Ralston Street\, Reno\, NV\, 89503\, United States
END:VEVENT
BEGIN:VEVENT
DTSTART;VALUE=DATE:20201004
DTEND;VALUE=DATE:20201005
DTSTAMP:20260422T030544
CREATED:20190326T182647Z
LAST-MODIFIED:20190326T182647Z
UID:8812-1601769600-1601855999@cosolargy.org
SUMMARY:Sunrise Service
DESCRIPTION:Service begins 30 minutes before sunrise. Please consult the local sunrise time to find the correct time to arrive. \nPublic welcome by invitation. Contact us by phone and/or email. \nFor 40 years community members have enjoyed the serenity of this unique desert Sanctuary spread over 1\,200 acres in a mountain valley only 20 minutes from downtown Reno\, where we meet for beautiful sunrises and Community fellowship. The place to go for optimal sun gazing\, to be near nature and for healing the spirit. We participate in open-air services at sunrise at the Red Rock Consecrated Sanctuary.
URL:https://cosolargy.org/event/sunrise-service-2020-10-04/
LOCATION:Red Rock Sanctuary\, Reno\, NV\, United States
END:VEVENT
BEGIN:VEVENT
DTSTART;TZID=America/Los_Angeles:20201007T120000
DTEND;TZID=America/Los_Angeles:20201007T121500
DTSTAMP:20260422T030544
CREATED:20190416T022624Z
LAST-MODIFIED:20190730T235341Z
UID:9028-1602072000-1602072900@cosolargy.org
SUMMARY:Wednesday Communion of Fellowship
DESCRIPTION:Come join us on Wednesdays at 12pm Noon for our Communion of Fellowship at the Chapel of the Holy Child. \nChapel of the Holy Child\n643 Ralston Street\nReno\, NV 89503 United States
URL:https://cosolargy.org/event/wednesday-communion-of-fellowship-2019-04-17-2020-10-07/
LOCATION:Chapel of the Holy Child\, 643 Ralston Street\, Reno\, NV\, 89503\, United States
END:VEVENT
BEGIN:VEVENT
DTSTART;TZID=America/Los_Angeles:20201009T090000
DTEND;TZID=America/Los_Angeles:20201009T091500
DTSTAMP:20260422T030544
CREATED:20190416T023929Z
LAST-MODIFIED:20190416T023929Z
UID:8920-1602234000-1602234900@cosolargy.org
SUMMARY:Friday Prayer & Fellowship Service
DESCRIPTION:Join us every Friday at the Chapel of Roses located at Steamboat Hotsprings for Friday Prayer & Fellowship Service. \nSteamboat Hotsprings\n16010 S. Virginia Street\nReno\, NV 89521\nSteamboat website: https://steamboatsprings.org/
URL:https://cosolargy.org/event/friday-prayer-fellowship-service-2020-10-09/
LOCATION:Chapel of the Roses: Steamboat Hotsprings\, 16010 S. Virginia Street\, Reno\, NV\, 89521\, United States
END:VEVENT
BEGIN:VEVENT
DTSTART;TZID=America/Los_Angeles:20201010T100000
DTEND;TZID=America/Los_Angeles:20201010T110000
DTSTAMP:20260422T030544
CREATED:20190416T020848Z
LAST-MODIFIED:20200319T113850Z
UID:9119-1602324000-1602327600@cosolargy.org
SUMMARY:Saturday Communion of Fellowship
DESCRIPTION:Temporarily Suspended due to the coronavirus. \nOpen to the public. For details call 775-786-7827
URL:https://cosolargy.org/event/communion-of-fellowship-2020-10-10/
LOCATION:Chapel of the Holy Child\, 643 Ralston Street\, Reno\, NV\, 89503\, United States
END:VEVENT
BEGIN:VEVENT
DTSTART;VALUE=DATE:20201011
DTEND;VALUE=DATE:20201012
DTSTAMP:20260422T030544
CREATED:20190326T182647Z
LAST-MODIFIED:20190326T182647Z
UID:8813-1602374400-1602460799@cosolargy.org
SUMMARY:Sunrise Service
DESCRIPTION:Service begins 30 minutes before sunrise. Please consult the local sunrise time to find the correct time to arrive. \nPublic welcome by invitation. Contact us by phone and/or email. \nFor 40 years community members have enjoyed the serenity of this unique desert Sanctuary spread over 1\,200 acres in a mountain valley only 20 minutes from downtown Reno\, where we meet for beautiful sunrises and Community fellowship. The place to go for optimal sun gazing\, to be near nature and for healing the spirit. We participate in open-air services at sunrise at the Red Rock Consecrated Sanctuary.
URL:https://cosolargy.org/event/sunrise-service-2020-10-11/
LOCATION:Red Rock Sanctuary\, Reno\, NV\, United States
END:VEVENT
BEGIN:VEVENT
DTSTART;TZID=America/Los_Angeles:20201014T120000
DTEND;TZID=America/Los_Angeles:20201014T121500
DTSTAMP:20260422T030544
CREATED:20190416T022624Z
LAST-MODIFIED:20190730T235341Z
UID:9029-1602676800-1602677700@cosolargy.org
SUMMARY:Wednesday Communion of Fellowship
DESCRIPTION:Come join us on Wednesdays at 12pm Noon for our Communion of Fellowship at the Chapel of the Holy Child. \nChapel of the Holy Child\n643 Ralston Street\nReno\, NV 89503 United States
URL:https://cosolargy.org/event/wednesday-communion-of-fellowship-2019-04-17-2020-10-14/
LOCATION:Chapel of the Holy Child\, 643 Ralston Street\, Reno\, NV\, 89503\, United States
END:VEVENT
BEGIN:VEVENT
DTSTART;TZID=America/Los_Angeles:20201016T090000
DTEND;TZID=America/Los_Angeles:20201016T091500
DTSTAMP:20260422T030544
CREATED:20190416T023929Z
LAST-MODIFIED:20190416T023929Z
UID:8921-1602838800-1602839700@cosolargy.org
SUMMARY:Friday Prayer & Fellowship Service
DESCRIPTION:Join us every Friday at the Chapel of Roses located at Steamboat Hotsprings for Friday Prayer & Fellowship Service. \nSteamboat Hotsprings\n16010 S. Virginia Street\nReno\, NV 89521\nSteamboat website: https://steamboatsprings.org/
URL:https://cosolargy.org/event/friday-prayer-fellowship-service-2020-10-16/
LOCATION:Chapel of the Roses: Steamboat Hotsprings\, 16010 S. Virginia Street\, Reno\, NV\, 89521\, United States
END:VEVENT
BEGIN:VEVENT
DTSTART;TZID=America/Los_Angeles:20201017T100000
DTEND;TZID=America/Los_Angeles:20201017T110000
DTSTAMP:20260422T030544
CREATED:20190416T020848Z
LAST-MODIFIED:20200319T113851Z
UID:9120-1602928800-1602932400@cosolargy.org
SUMMARY:Saturday Communion of Fellowship
DESCRIPTION:Temporarily Suspended due to the coronavirus. \nOpen to the public. For details call 775-786-7827
URL:https://cosolargy.org/event/communion-of-fellowship-2020-10-17/
LOCATION:Chapel of the Holy Child\, 643 Ralston Street\, Reno\, NV\, 89503\, United States
END:VEVENT
BEGIN:VEVENT
DTSTART;VALUE=DATE:20201018
DTEND;VALUE=DATE:20201019
DTSTAMP:20260422T030544
CREATED:20190326T182647Z
LAST-MODIFIED:20190326T182647Z
UID:8814-1602979200-1603065599@cosolargy.org
SUMMARY:Sunrise Service
DESCRIPTION:Service begins 30 minutes before sunrise. Please consult the local sunrise time to find the correct time to arrive. \nPublic welcome by invitation. Contact us by phone and/or email. \nFor 40 years community members have enjoyed the serenity of this unique desert Sanctuary spread over 1\,200 acres in a mountain valley only 20 minutes from downtown Reno\, where we meet for beautiful sunrises and Community fellowship. The place to go for optimal sun gazing\, to be near nature and for healing the spirit. We participate in open-air services at sunrise at the Red Rock Consecrated Sanctuary.
URL:https://cosolargy.org/event/sunrise-service-2020-10-18/
LOCATION:Red Rock Sanctuary\, Reno\, NV\, United States
END:VEVENT
BEGIN:VEVENT
DTSTART;TZID=America/Los_Angeles:20201021T120000
DTEND;TZID=America/Los_Angeles:20201021T121500
DTSTAMP:20260422T030544
CREATED:20190416T022624Z
LAST-MODIFIED:20190730T235342Z
UID:9030-1603281600-1603282500@cosolargy.org
SUMMARY:Wednesday Communion of Fellowship
DESCRIPTION:Come join us on Wednesdays at 12pm Noon for our Communion of Fellowship at the Chapel of the Holy Child. \nChapel of the Holy Child\n643 Ralston Street\nReno\, NV 89503 United States
URL:https://cosolargy.org/event/wednesday-communion-of-fellowship-2019-04-17-2020-10-21/
LOCATION:Chapel of the Holy Child\, 643 Ralston Street\, Reno\, NV\, 89503\, United States
END:VEVENT
BEGIN:VEVENT
DTSTART;TZID=America/Los_Angeles:20201023T090000
DTEND;TZID=America/Los_Angeles:20201023T091500
DTSTAMP:20260422T030544
CREATED:20190416T023929Z
LAST-MODIFIED:20190416T023929Z
UID:8922-1603443600-1603444500@cosolargy.org
SUMMARY:Friday Prayer & Fellowship Service
DESCRIPTION:Join us every Friday at the Chapel of Roses located at Steamboat Hotsprings for Friday Prayer & Fellowship Service. \nSteamboat Hotsprings\n16010 S. Virginia Street\nReno\, NV 89521\nSteamboat website: https://steamboatsprings.org/
URL:https://cosolargy.org/event/friday-prayer-fellowship-service-2020-10-23/
LOCATION:Chapel of the Roses: Steamboat Hotsprings\, 16010 S. Virginia Street\, Reno\, NV\, 89521\, United States
END:VEVENT
BEGIN:VEVENT
DTSTART;TZID=America/Los_Angeles:20201024T100000
DTEND;TZID=America/Los_Angeles:20201024T110000
DTSTAMP:20260422T030544
CREATED:20190416T020848Z
LAST-MODIFIED:20200319T113851Z
UID:9121-1603533600-1603537200@cosolargy.org
SUMMARY:Saturday Communion of Fellowship
DESCRIPTION:Temporarily Suspended due to the coronavirus. \nOpen to the public. For details call 775-786-7827
URL:https://cosolargy.org/event/communion-of-fellowship-2020-10-24/
LOCATION:Chapel of the Holy Child\, 643 Ralston Street\, Reno\, NV\, 89503\, United States
END:VEVENT
BEGIN:VEVENT
DTSTART;VALUE=DATE:20201025
DTEND;VALUE=DATE:20201026
DTSTAMP:20260422T030544
CREATED:20190326T182647Z
LAST-MODIFIED:20190326T182647Z
UID:8815-1603584000-1603670399@cosolargy.org
SUMMARY:Sunrise Service
DESCRIPTION:Service begins 30 minutes before sunrise. Please consult the local sunrise time to find the correct time to arrive. \nPublic welcome by invitation. Contact us by phone and/or email. \nFor 40 years community members have enjoyed the serenity of this unique desert Sanctuary spread over 1\,200 acres in a mountain valley only 20 minutes from downtown Reno\, where we meet for beautiful sunrises and Community fellowship. The place to go for optimal sun gazing\, to be near nature and for healing the spirit. We participate in open-air services at sunrise at the Red Rock Consecrated Sanctuary.
URL:https://cosolargy.org/event/sunrise-service-2020-10-25/
LOCATION:Red Rock Sanctuary\, Reno\, NV\, United States
END:VEVENT
BEGIN:VEVENT
DTSTART;TZID=America/Los_Angeles:20201028T120000
DTEND;TZID=America/Los_Angeles:20201028T121500
DTSTAMP:20260422T030544
CREATED:20190416T022624Z
LAST-MODIFIED:20190730T235342Z
UID:9031-1603886400-1603887300@cosolargy.org
SUMMARY:Wednesday Communion of Fellowship
DESCRIPTION:Come join us on Wednesdays at 12pm Noon for our Communion of Fellowship at the Chapel of the Holy Child. \nChapel of the Holy Child\n643 Ralston Street\nReno\, NV 89503 United States
URL:https://cosolargy.org/event/wednesday-communion-of-fellowship-2019-04-17-2020-10-28/
LOCATION:Chapel of the Holy Child\, 643 Ralston Street\, Reno\, NV\, 89503\, United States
END:VEVENT
BEGIN:VEVENT
DTSTART;TZID=America/Los_Angeles:20201030T090000
DTEND;TZID=America/Los_Angeles:20201030T091500
DTSTAMP:20260422T030544
CREATED:20190416T023929Z
LAST-MODIFIED:20190416T023929Z
UID:8923-1604048400-1604049300@cosolargy.org
SUMMARY:Friday Prayer & Fellowship Service
DESCRIPTION:Join us every Friday at the Chapel of Roses located at Steamboat Hotsprings for Friday Prayer & Fellowship Service. \nSteamboat Hotsprings\n16010 S. Virginia Street\nReno\, NV 89521\nSteamboat website: https://steamboatsprings.org/
URL:https://cosolargy.org/event/friday-prayer-fellowship-service-2020-10-30/
LOCATION:Chapel of the Roses: Steamboat Hotsprings\, 16010 S. Virginia Street\, Reno\, NV\, 89521\, United States
END:VEVENT
BEGIN:VEVENT
DTSTART;TZID=America/Los_Angeles:20201031T100000
DTEND;TZID=America/Los_Angeles:20201031T110000
DTSTAMP:20260422T030544
CREATED:20190416T020848Z
LAST-MODIFIED:20200319T113852Z
UID:9122-1604138400-1604142000@cosolargy.org
SUMMARY:Saturday Communion of Fellowship
DESCRIPTION:Temporarily Suspended due to the coronavirus. \nOpen to the public. For details call 775-786-7827
URL:https://cosolargy.org/event/communion-of-fellowship-2020-10-31/
LOCATION:Chapel of the Holy Child\, 643 Ralston Street\, Reno\, NV\, 89503\, United States
END:VEVENT
END:VCALENDAR