BEGIN:VCALENDAR
VERSION:2.0
PRODID:-//Cosolargy - ECPv6.9.0//NONSGML v1.0//EN
CALSCALE:GREGORIAN
METHOD:PUBLISH
X-ORIGINAL-URL:https://cosolargy.org
X-WR-CALDESC:Events for Cosolargy
REFRESH-INTERVAL;VALUE=DURATION:PT1H
X-Robots-Tag:noindex
X-PUBLISHED-TTL:PT1H
BEGIN:VTIMEZONE
TZID:America/Los_Angeles
BEGIN:DAYLIGHT
TZOFFSETFROM:-0800
TZOFFSETTO:-0700
TZNAME:PDT
DTSTART:20210314T100000
END:DAYLIGHT
BEGIN:STANDARD
TZOFFSETFROM:-0700
TZOFFSETTO:-0800
TZNAME:PST
DTSTART:20211107T090000
END:STANDARD
END:VTIMEZONE
BEGIN:VEVENT
DTSTART;TZID=America/Los_Angeles:20210212T080000
DTEND;TZID=America/Los_Angeles:20210310T170000
DTSTAMP:20260422T095256
CREATED:20210212T185741Z
LAST-MODIFIED:20210212T190140Z
UID:10725-1613116800-1615395600@cosolargy.org
SUMMARY:Order the Annual Community Calendar
DESCRIPTION:We are now taking orders for the 2021 Community calendar. The suggested donation amount is $25 per calendar. Click here to go to the order form.
URL:https://cosolargy.org/event/order-the-annual-community-calendar/
END:VEVENT
BEGIN:VEVENT
DTSTART;TZID=America/Los_Angeles:20210303T120000
DTEND;TZID=America/Los_Angeles:20210303T121500
DTSTAMP:20260422T095256
CREATED:20190416T022624Z
LAST-MODIFIED:20190730T235352Z
UID:9049-1614772800-1614773700@cosolargy.org
SUMMARY:Wednesday Communion of Fellowship
DESCRIPTION:Come join us on Wednesdays at 12pm Noon for our Communion of Fellowship at the Chapel of the Holy Child. \nChapel of the Holy Child\n643 Ralston Street\nReno\, NV 89503 United States
URL:https://cosolargy.org/event/wednesday-communion-of-fellowship-2019-04-17-2021-03-03/
LOCATION:Chapel of the Holy Child\, 643 Ralston Street\, Reno\, NV\, 89503\, United States
END:VEVENT
BEGIN:VEVENT
DTSTART;TZID=America/Los_Angeles:20210305T090000
DTEND;TZID=America/Los_Angeles:20210305T091500
DTSTAMP:20260422T095256
CREATED:20190416T023929Z
LAST-MODIFIED:20190416T023929Z
UID:8941-1614934800-1614935700@cosolargy.org
SUMMARY:Friday Prayer & Fellowship Service
DESCRIPTION:Join us every Friday at the Chapel of Roses located at Steamboat Hotsprings for Friday Prayer & Fellowship Service. \nSteamboat Hotsprings\n16010 S. Virginia Street\nReno\, NV 89521\nSteamboat website: https://steamboatsprings.org/
URL:https://cosolargy.org/event/friday-prayer-fellowship-service-2021-03-05/
LOCATION:Chapel of the Roses: Steamboat Hotsprings\, 16010 S. Virginia Street\, Reno\, NV\, 89521\, United States
END:VEVENT
BEGIN:VEVENT
DTSTART;TZID=America/Los_Angeles:20210306T100000
DTEND;TZID=America/Los_Angeles:20210306T110000
DTSTAMP:20260422T095256
CREATED:20190416T020848Z
LAST-MODIFIED:20200319T113859Z
UID:9140-1615024800-1615028400@cosolargy.org
SUMMARY:Saturday Communion of Fellowship
DESCRIPTION:Temporarily Suspended due to the coronavirus. \nOpen to the public. For details call 775-786-7827
URL:https://cosolargy.org/event/communion-of-fellowship-2021-03-06/
LOCATION:Chapel of the Holy Child\, 643 Ralston Street\, Reno\, NV\, 89503\, United States
END:VEVENT
BEGIN:VEVENT
DTSTART;VALUE=DATE:20210307
DTEND;VALUE=DATE:20210308
DTSTAMP:20260422T095256
CREATED:20190326T182647Z
LAST-MODIFIED:20190326T182647Z
UID:8834-1615075200-1615161599@cosolargy.org
SUMMARY:Sunrise Service
DESCRIPTION:Service begins 30 minutes before sunrise. Please consult the local sunrise time to find the correct time to arrive. \nPublic welcome by invitation. Contact us by phone and/or email. \nFor 40 years community members have enjoyed the serenity of this unique desert Sanctuary spread over 1\,200 acres in a mountain valley only 20 minutes from downtown Reno\, where we meet for beautiful sunrises and Community fellowship. The place to go for optimal sun gazing\, to be near nature and for healing the spirit. We participate in open-air services at sunrise at the Red Rock Consecrated Sanctuary.
URL:https://cosolargy.org/event/sunrise-service-2021-03-07/
LOCATION:Red Rock Sanctuary\, Reno\, NV\, United States
END:VEVENT
BEGIN:VEVENT
DTSTART;TZID=America/Los_Angeles:20210310T120000
DTEND;TZID=America/Los_Angeles:20210310T121500
DTSTAMP:20260422T095256
CREATED:20190416T022624Z
LAST-MODIFIED:20190730T235353Z
UID:9050-1615377600-1615378500@cosolargy.org
SUMMARY:Wednesday Communion of Fellowship
DESCRIPTION:Come join us on Wednesdays at 12pm Noon for our Communion of Fellowship at the Chapel of the Holy Child. \nChapel of the Holy Child\n643 Ralston Street\nReno\, NV 89503 United States
URL:https://cosolargy.org/event/wednesday-communion-of-fellowship-2019-04-17-2021-03-10/
LOCATION:Chapel of the Holy Child\, 643 Ralston Street\, Reno\, NV\, 89503\, United States
END:VEVENT
BEGIN:VEVENT
DTSTART;TZID=America/Los_Angeles:20210312T090000
DTEND;TZID=America/Los_Angeles:20210312T091500
DTSTAMP:20260422T095256
CREATED:20190416T023929Z
LAST-MODIFIED:20190416T023929Z
UID:8942-1615539600-1615540500@cosolargy.org
SUMMARY:Friday Prayer & Fellowship Service
DESCRIPTION:Join us every Friday at the Chapel of Roses located at Steamboat Hotsprings for Friday Prayer & Fellowship Service. \nSteamboat Hotsprings\n16010 S. Virginia Street\nReno\, NV 89521\nSteamboat website: https://steamboatsprings.org/
URL:https://cosolargy.org/event/friday-prayer-fellowship-service-2021-03-12/
LOCATION:Chapel of the Roses: Steamboat Hotsprings\, 16010 S. Virginia Street\, Reno\, NV\, 89521\, United States
END:VEVENT
BEGIN:VEVENT
DTSTART;TZID=America/Los_Angeles:20210313T100000
DTEND;TZID=America/Los_Angeles:20210313T110000
DTSTAMP:20260422T095256
CREATED:20190416T020848Z
LAST-MODIFIED:20200319T113900Z
UID:9141-1615629600-1615633200@cosolargy.org
SUMMARY:Saturday Communion of Fellowship
DESCRIPTION:Temporarily Suspended due to the coronavirus. \nOpen to the public. For details call 775-786-7827
URL:https://cosolargy.org/event/communion-of-fellowship-2021-03-13/
LOCATION:Chapel of the Holy Child\, 643 Ralston Street\, Reno\, NV\, 89503\, United States
END:VEVENT
BEGIN:VEVENT
DTSTART;VALUE=DATE:20210314
DTEND;VALUE=DATE:20210315
DTSTAMP:20260422T095256
CREATED:20190326T182647Z
LAST-MODIFIED:20190326T182647Z
UID:8835-1615680000-1615766399@cosolargy.org
SUMMARY:Sunrise Service
DESCRIPTION:Service begins 30 minutes before sunrise. Please consult the local sunrise time to find the correct time to arrive. \nPublic welcome by invitation. Contact us by phone and/or email. \nFor 40 years community members have enjoyed the serenity of this unique desert Sanctuary spread over 1\,200 acres in a mountain valley only 20 minutes from downtown Reno\, where we meet for beautiful sunrises and Community fellowship. The place to go for optimal sun gazing\, to be near nature and for healing the spirit. We participate in open-air services at sunrise at the Red Rock Consecrated Sanctuary.
URL:https://cosolargy.org/event/sunrise-service-2021-03-14/
LOCATION:Red Rock Sanctuary\, Reno\, NV\, United States
END:VEVENT
BEGIN:VEVENT
DTSTART;TZID=America/Los_Angeles:20210317T120000
DTEND;TZID=America/Los_Angeles:20210317T121500
DTSTAMP:20260422T095256
CREATED:20190416T022624Z
LAST-MODIFIED:20190730T235353Z
UID:9051-1615982400-1615983300@cosolargy.org
SUMMARY:Wednesday Communion of Fellowship
DESCRIPTION:Come join us on Wednesdays at 12pm Noon for our Communion of Fellowship at the Chapel of the Holy Child. \nChapel of the Holy Child\n643 Ralston Street\nReno\, NV 89503 United States
URL:https://cosolargy.org/event/wednesday-communion-of-fellowship-2019-04-17-2021-03-17/
LOCATION:Chapel of the Holy Child\, 643 Ralston Street\, Reno\, NV\, 89503\, United States
END:VEVENT
BEGIN:VEVENT
DTSTART;TZID=America/Los_Angeles:20210319T090000
DTEND;TZID=America/Los_Angeles:20210319T091500
DTSTAMP:20260422T095256
CREATED:20190416T023929Z
LAST-MODIFIED:20190416T023929Z
UID:8943-1616144400-1616145300@cosolargy.org
SUMMARY:Friday Prayer & Fellowship Service
DESCRIPTION:Join us every Friday at the Chapel of Roses located at Steamboat Hotsprings for Friday Prayer & Fellowship Service. \nSteamboat Hotsprings\n16010 S. Virginia Street\nReno\, NV 89521\nSteamboat website: https://steamboatsprings.org/
URL:https://cosolargy.org/event/friday-prayer-fellowship-service-2021-03-19/
LOCATION:Chapel of the Roses: Steamboat Hotsprings\, 16010 S. Virginia Street\, Reno\, NV\, 89521\, United States
END:VEVENT
BEGIN:VEVENT
DTSTART;TZID=America/Los_Angeles:20210320T100000
DTEND;TZID=America/Los_Angeles:20210320T110000
DTSTAMP:20260422T095256
CREATED:20190416T020848Z
LAST-MODIFIED:20200319T113900Z
UID:9142-1616234400-1616238000@cosolargy.org
SUMMARY:Saturday Communion of Fellowship
DESCRIPTION:Temporarily Suspended due to the coronavirus. \nOpen to the public. For details call 775-786-7827
URL:https://cosolargy.org/event/communion-of-fellowship-2021-03-20/
LOCATION:Chapel of the Holy Child\, 643 Ralston Street\, Reno\, NV\, 89503\, United States
END:VEVENT
BEGIN:VEVENT
DTSTART;VALUE=DATE:20210321
DTEND;VALUE=DATE:20210322
DTSTAMP:20260422T095256
CREATED:20190326T182647Z
LAST-MODIFIED:20190326T182647Z
UID:8836-1616284800-1616371199@cosolargy.org
SUMMARY:Sunrise Service
DESCRIPTION:Service begins 30 minutes before sunrise. Please consult the local sunrise time to find the correct time to arrive. \nPublic welcome by invitation. Contact us by phone and/or email. \nFor 40 years community members have enjoyed the serenity of this unique desert Sanctuary spread over 1\,200 acres in a mountain valley only 20 minutes from downtown Reno\, where we meet for beautiful sunrises and Community fellowship. The place to go for optimal sun gazing\, to be near nature and for healing the spirit. We participate in open-air services at sunrise at the Red Rock Consecrated Sanctuary.
URL:https://cosolargy.org/event/sunrise-service-2021-03-21/
LOCATION:Red Rock Sanctuary\, Reno\, NV\, United States
END:VEVENT
BEGIN:VEVENT
DTSTART;TZID=America/Los_Angeles:20210324T120000
DTEND;TZID=America/Los_Angeles:20210324T121500
DTSTAMP:20260422T095256
CREATED:20190416T022624Z
LAST-MODIFIED:20190730T235354Z
UID:9052-1616587200-1616588100@cosolargy.org
SUMMARY:Wednesday Communion of Fellowship
DESCRIPTION:Come join us on Wednesdays at 12pm Noon for our Communion of Fellowship at the Chapel of the Holy Child. \nChapel of the Holy Child\n643 Ralston Street\nReno\, NV 89503 United States
URL:https://cosolargy.org/event/wednesday-communion-of-fellowship-2019-04-17-2021-03-24/
LOCATION:Chapel of the Holy Child\, 643 Ralston Street\, Reno\, NV\, 89503\, United States
END:VEVENT
BEGIN:VEVENT
DTSTART;TZID=America/Los_Angeles:20210326T090000
DTEND;TZID=America/Los_Angeles:20210326T091500
DTSTAMP:20260422T095256
CREATED:20190416T023929Z
LAST-MODIFIED:20190416T023929Z
UID:8944-1616749200-1616750100@cosolargy.org
SUMMARY:Friday Prayer & Fellowship Service
DESCRIPTION:Join us every Friday at the Chapel of Roses located at Steamboat Hotsprings for Friday Prayer & Fellowship Service. \nSteamboat Hotsprings\n16010 S. Virginia Street\nReno\, NV 89521\nSteamboat website: https://steamboatsprings.org/
URL:https://cosolargy.org/event/friday-prayer-fellowship-service-2021-03-26/
LOCATION:Chapel of the Roses: Steamboat Hotsprings\, 16010 S. Virginia Street\, Reno\, NV\, 89521\, United States
END:VEVENT
BEGIN:VEVENT
DTSTART;TZID=America/Los_Angeles:20210327T100000
DTEND;TZID=America/Los_Angeles:20210327T110000
DTSTAMP:20260422T095256
CREATED:20190416T020848Z
LAST-MODIFIED:20200319T113901Z
UID:9143-1616839200-1616842800@cosolargy.org
SUMMARY:Saturday Communion of Fellowship
DESCRIPTION:Temporarily Suspended due to the coronavirus. \nOpen to the public. For details call 775-786-7827
URL:https://cosolargy.org/event/communion-of-fellowship-2021-03-27/
LOCATION:Chapel of the Holy Child\, 643 Ralston Street\, Reno\, NV\, 89503\, United States
END:VEVENT
BEGIN:VEVENT
DTSTART;VALUE=DATE:20210328
DTEND;VALUE=DATE:20210329
DTSTAMP:20260422T095256
CREATED:20190326T182647Z
LAST-MODIFIED:20190326T182647Z
UID:8837-1616889600-1616975999@cosolargy.org
SUMMARY:Sunrise Service
DESCRIPTION:Service begins 30 minutes before sunrise. Please consult the local sunrise time to find the correct time to arrive. \nPublic welcome by invitation. Contact us by phone and/or email. \nFor 40 years community members have enjoyed the serenity of this unique desert Sanctuary spread over 1\,200 acres in a mountain valley only 20 minutes from downtown Reno\, where we meet for beautiful sunrises and Community fellowship. The place to go for optimal sun gazing\, to be near nature and for healing the spirit. We participate in open-air services at sunrise at the Red Rock Consecrated Sanctuary.
URL:https://cosolargy.org/event/sunrise-service-2021-03-28/
LOCATION:Red Rock Sanctuary\, Reno\, NV\, United States
END:VEVENT
BEGIN:VEVENT
DTSTART;TZID=America/Los_Angeles:20210331T120000
DTEND;TZID=America/Los_Angeles:20210331T121500
DTSTAMP:20260422T095256
CREATED:20190416T022624Z
LAST-MODIFIED:20190730T235354Z
UID:9053-1617192000-1617192900@cosolargy.org
SUMMARY:Wednesday Communion of Fellowship
DESCRIPTION:Come join us on Wednesdays at 12pm Noon for our Communion of Fellowship at the Chapel of the Holy Child. \nChapel of the Holy Child\n643 Ralston Street\nReno\, NV 89503 United States
URL:https://cosolargy.org/event/wednesday-communion-of-fellowship-2019-04-17-2021-03-31/
LOCATION:Chapel of the Holy Child\, 643 Ralston Street\, Reno\, NV\, 89503\, United States
END:VEVENT
END:VCALENDAR