BEGIN:VCALENDAR
VERSION:2.0
PRODID:-//Cosolargy - ECPv6.9.0//NONSGML v1.0//EN
CALSCALE:GREGORIAN
METHOD:PUBLISH
X-WR-CALNAME:Cosolargy
X-ORIGINAL-URL:https://cosolargy.org
X-WR-CALDESC:Events for Cosolargy
REFRESH-INTERVAL;VALUE=DURATION:PT1H
X-Robots-Tag:noindex
X-PUBLISHED-TTL:PT1H
BEGIN:VTIMEZONE
TZID:America/Los_Angeles
BEGIN:DAYLIGHT
TZOFFSETFROM:-0800
TZOFFSETTO:-0700
TZNAME:PDT
DTSTART:20210314T100000
END:DAYLIGHT
BEGIN:STANDARD
TZOFFSETFROM:-0700
TZOFFSETTO:-0800
TZNAME:PST
DTSTART:20211107T090000
END:STANDARD
END:VTIMEZONE
BEGIN:VEVENT
DTSTART;TZID=America/Los_Angeles:20210602T120000
DTEND;TZID=America/Los_Angeles:20210602T121500
DTSTAMP:20260422T134656
CREATED:20190416T022624Z
LAST-MODIFIED:20190730T235358Z
UID:9180-1622635200-1622636100@cosolargy.org
SUMMARY:Wednesday Communion of Fellowship
DESCRIPTION:Come join us on Wednesdays at 12pm Noon for our Communion of Fellowship at the Chapel of the Holy Child. \nChapel of the Holy Child\n643 Ralston Street\nReno\, NV 89503 United States
URL:https://cosolargy.org/event/wednesday-communion-of-fellowship-2019-04-17-2021-06-02/
LOCATION:Chapel of the Holy Child\, 643 Ralston Street\, Reno\, NV\, 89503\, United States
END:VEVENT
BEGIN:VEVENT
DTSTART;TZID=America/Los_Angeles:20210604T090000
DTEND;TZID=America/Los_Angeles:20210604T091500
DTSTAMP:20260422T134656
CREATED:20190416T023929Z
LAST-MODIFIED:20190416T023929Z
UID:9181-1622797200-1622798100@cosolargy.org
SUMMARY:Friday Prayer & Fellowship Service
DESCRIPTION:Join us every Friday at the Chapel of Roses located at Steamboat Hotsprings for Friday Prayer & Fellowship Service. \nSteamboat Hotsprings\n16010 S. Virginia Street\nReno\, NV 89521\nSteamboat website: https://steamboatsprings.org/
URL:https://cosolargy.org/event/friday-prayer-fellowship-service-2021-06-04/
LOCATION:Chapel of the Roses: Steamboat Hotsprings\, 16010 S. Virginia Street\, Reno\, NV\, 89521\, United States
END:VEVENT
BEGIN:VEVENT
DTSTART;TZID=America/Los_Angeles:20210605T100000
DTEND;TZID=America/Los_Angeles:20210605T110000
DTSTAMP:20260422T134656
CREATED:20190416T020848Z
LAST-MODIFIED:20200319T113905Z
UID:9182-1622887200-1622890800@cosolargy.org
SUMMARY:Saturday Communion of Fellowship
DESCRIPTION:Temporarily Suspended due to the coronavirus. \nOpen to the public. For details call 775-786-7827
URL:https://cosolargy.org/event/communion-of-fellowship-2021-06-05/
LOCATION:Chapel of the Holy Child\, 643 Ralston Street\, Reno\, NV\, 89503\, United States
END:VEVENT
BEGIN:VEVENT
DTSTART;VALUE=DATE:20210606
DTEND;VALUE=DATE:20210607
DTSTAMP:20260422T134656
CREATED:20190326T182647Z
LAST-MODIFIED:20190326T182647Z
UID:9183-1622937600-1623023999@cosolargy.org
SUMMARY:Sunrise Service
DESCRIPTION:Service begins 30 minutes before sunrise. Please consult the local sunrise time to find the correct time to arrive. \nPublic welcome by invitation. Contact us by phone and/or email. \nFor 40 years community members have enjoyed the serenity of this unique desert Sanctuary spread over 1\,200 acres in a mountain valley only 20 minutes from downtown Reno\, where we meet for beautiful sunrises and Community fellowship. The place to go for optimal sun gazing\, to be near nature and for healing the spirit. We participate in open-air services at sunrise at the Red Rock Consecrated Sanctuary.
URL:https://cosolargy.org/event/sunrise-service-2021-06-06/
LOCATION:Red Rock Sanctuary\, Reno\, NV\, United States
END:VEVENT
BEGIN:VEVENT
DTSTART;TZID=America/Los_Angeles:20210606T060000
DTEND;TZID=America/Los_Angeles:20210606T170000
DTSTAMP:20260422T134656
CREATED:20210518T080022Z
LAST-MODIFIED:20210518T154432Z
UID:10833-1622959200-1622998800@cosolargy.org
SUMMARY:Cosolargy Conference 2021 Part I
DESCRIPTION:COSOLARGY VIRTUAL CONFERENCE\n\nDue to the ongoing COVID restrictions\, we cannot hold a normal Convocation this year\, so we are doing a short virtual one instead. This conference is for active Cosolargy students only.\n\nThe 2021 Cosolargy Conference will be in two parts. The first part will happen on June 6th. On that date\, the Sunrise Divine Service\, breakfast at the parsonage at the Sanctuary\, and the State of The Community address by the Right Reverend Gene Savoy\, Jr. will be posted on the Facebook Cosolargy Forum. If you are not already a member of the Cosolargy Forum\, you will need to join before you can view the videos. If you have never used zoom\, click here to view a video on how to join a Zoom session.\n\nThe second part will be on June 12th. Go to that date in the Event Calendar to read the details.
URL:https://cosolargy.org/event/cosolargy-conference-2021/
END:VEVENT
BEGIN:VEVENT
DTSTART;TZID=America/Los_Angeles:20210609T120000
DTEND;TZID=America/Los_Angeles:20210609T121500
DTSTAMP:20260422T134656
CREATED:20190416T022624Z
LAST-MODIFIED:20190730T235359Z
UID:9188-1623240000-1623240900@cosolargy.org
SUMMARY:Wednesday Communion of Fellowship
DESCRIPTION:Come join us on Wednesdays at 12pm Noon for our Communion of Fellowship at the Chapel of the Holy Child. \nChapel of the Holy Child\n643 Ralston Street\nReno\, NV 89503 United States
URL:https://cosolargy.org/event/wednesday-communion-of-fellowship-2019-04-17-2021-06-09/
LOCATION:Chapel of the Holy Child\, 643 Ralston Street\, Reno\, NV\, 89503\, United States
END:VEVENT
BEGIN:VEVENT
DTSTART;TZID=America/Los_Angeles:20210611T090000
DTEND;TZID=America/Los_Angeles:20210611T091500
DTSTAMP:20260422T134656
CREATED:20190416T023929Z
LAST-MODIFIED:20190416T023929Z
UID:9190-1623402000-1623402900@cosolargy.org
SUMMARY:Friday Prayer & Fellowship Service
DESCRIPTION:Join us every Friday at the Chapel of Roses located at Steamboat Hotsprings for Friday Prayer & Fellowship Service. \nSteamboat Hotsprings\n16010 S. Virginia Street\nReno\, NV 89521\nSteamboat website: https://steamboatsprings.org/
URL:https://cosolargy.org/event/friday-prayer-fellowship-service-2021-06-11/
LOCATION:Chapel of the Roses: Steamboat Hotsprings\, 16010 S. Virginia Street\, Reno\, NV\, 89521\, United States
END:VEVENT
BEGIN:VEVENT
DTSTART;TZID=America/Los_Angeles:20210612T100000
DTEND;TZID=America/Los_Angeles:20210612T110000
DTSTAMP:20260422T134656
CREATED:20190416T020848Z
LAST-MODIFIED:20200319T113906Z
UID:9191-1623492000-1623495600@cosolargy.org
SUMMARY:Saturday Communion of Fellowship
DESCRIPTION:Temporarily Suspended due to the coronavirus. \nOpen to the public. For details call 775-786-7827
URL:https://cosolargy.org/event/communion-of-fellowship-2021-06-12/
LOCATION:Chapel of the Holy Child\, 643 Ralston Street\, Reno\, NV\, 89503\, United States
END:VEVENT
BEGIN:VEVENT
DTSTART;TZID=America/Los_Angeles:20210612T140000
DTEND;TZID=America/Los_Angeles:20210612T160000
DTSTAMP:20260422T134656
CREATED:20210517T214225Z
LAST-MODIFIED:20210517T214225Z
UID:10875-1623506400-1623513600@cosolargy.org
SUMMARY:Cosolargy Conference 2021 Part II
DESCRIPTION:The second part will be a live Zoom session on June 12th at 2:00 PM (PDT). The session will include several pre-recorded videos. At this time\, the list of planned video presentations includes:\n\n\nA photographic tour of Red Rock Consecrated Sanctuary.\nA tour of the newly repaired Cathedral Church of the Americas.\nA tour of the Sanctuary guest suite that is under remodel.\nA visit to the Gene Savoy\, Sr. Museum.\nA video about our Steamboat Hot Springs Healing Center.\nA video from our Community in Japan.\nA tour of our property on the Gulf of California in Baja California.\n\n\n\nYou will be able to submit questions on the State of The Community address and on the concepts of Cosolargy that staff members can address during the live Zoom session. If you wish to submit a question\, just reply to this email\, or use the contact form on the Cosolargy website.\nSee June 6th in the Event Calendar for a description of part I.
URL:https://cosolargy.org/event/cosolargy-conference-2021-part-ii/
END:VEVENT
BEGIN:VEVENT
DTSTART;VALUE=DATE:20210613
DTEND;VALUE=DATE:20210614
DTSTAMP:20260422T134656
CREATED:20190326T182647Z
LAST-MODIFIED:20190326T182647Z
UID:9192-1623542400-1623628799@cosolargy.org
SUMMARY:Sunrise Service
DESCRIPTION:Service begins 30 minutes before sunrise. Please consult the local sunrise time to find the correct time to arrive. \nPublic welcome by invitation. Contact us by phone and/or email. \nFor 40 years community members have enjoyed the serenity of this unique desert Sanctuary spread over 1\,200 acres in a mountain valley only 20 minutes from downtown Reno\, where we meet for beautiful sunrises and Community fellowship. The place to go for optimal sun gazing\, to be near nature and for healing the spirit. We participate in open-air services at sunrise at the Red Rock Consecrated Sanctuary.
URL:https://cosolargy.org/event/sunrise-service-2021-06-13/
LOCATION:Red Rock Sanctuary\, Reno\, NV\, United States
END:VEVENT
BEGIN:VEVENT
DTSTART;TZID=America/Los_Angeles:20210616T120000
DTEND;TZID=America/Los_Angeles:20210616T121500
DTSTAMP:20260422T134656
CREATED:20190416T022624Z
LAST-MODIFIED:20190730T235400Z
UID:9193-1623844800-1623845700@cosolargy.org
SUMMARY:Wednesday Communion of Fellowship
DESCRIPTION:Come join us on Wednesdays at 12pm Noon for our Communion of Fellowship at the Chapel of the Holy Child. \nChapel of the Holy Child\n643 Ralston Street\nReno\, NV 89503 United States
URL:https://cosolargy.org/event/wednesday-communion-of-fellowship-2019-04-17-2021-06-16/
LOCATION:Chapel of the Holy Child\, 643 Ralston Street\, Reno\, NV\, 89503\, United States
END:VEVENT
BEGIN:VEVENT
DTSTART;TZID=America/Los_Angeles:20210618T090000
DTEND;TZID=America/Los_Angeles:20210618T091500
DTSTAMP:20260422T134656
CREATED:20190416T023929Z
LAST-MODIFIED:20190416T023929Z
UID:9195-1624006800-1624007700@cosolargy.org
SUMMARY:Friday Prayer & Fellowship Service
DESCRIPTION:Join us every Friday at the Chapel of Roses located at Steamboat Hotsprings for Friday Prayer & Fellowship Service. \nSteamboat Hotsprings\n16010 S. Virginia Street\nReno\, NV 89521\nSteamboat website: https://steamboatsprings.org/
URL:https://cosolargy.org/event/friday-prayer-fellowship-service-2021-06-18/
LOCATION:Chapel of the Roses: Steamboat Hotsprings\, 16010 S. Virginia Street\, Reno\, NV\, 89521\, United States
END:VEVENT
BEGIN:VEVENT
DTSTART;TZID=America/Los_Angeles:20210619T100000
DTEND;TZID=America/Los_Angeles:20210619T110000
DTSTAMP:20260422T134656
CREATED:20190416T020848Z
LAST-MODIFIED:20200319T113906Z
UID:9197-1624096800-1624100400@cosolargy.org
SUMMARY:Saturday Communion of Fellowship
DESCRIPTION:Temporarily Suspended due to the coronavirus. \nOpen to the public. For details call 775-786-7827
URL:https://cosolargy.org/event/communion-of-fellowship-2021-06-19/
LOCATION:Chapel of the Holy Child\, 643 Ralston Street\, Reno\, NV\, 89503\, United States
END:VEVENT
BEGIN:VEVENT
DTSTART;VALUE=DATE:20210620
DTEND;VALUE=DATE:20210621
DTSTAMP:20260422T134656
CREATED:20190326T182647Z
LAST-MODIFIED:20190326T182647Z
UID:9198-1624147200-1624233599@cosolargy.org
SUMMARY:Sunrise Service
DESCRIPTION:Service begins 30 minutes before sunrise. Please consult the local sunrise time to find the correct time to arrive. \nPublic welcome by invitation. Contact us by phone and/or email. \nFor 40 years community members have enjoyed the serenity of this unique desert Sanctuary spread over 1\,200 acres in a mountain valley only 20 minutes from downtown Reno\, where we meet for beautiful sunrises and Community fellowship. The place to go for optimal sun gazing\, to be near nature and for healing the spirit. We participate in open-air services at sunrise at the Red Rock Consecrated Sanctuary.
URL:https://cosolargy.org/event/sunrise-service-2021-06-20/
LOCATION:Red Rock Sanctuary\, Reno\, NV\, United States
END:VEVENT
BEGIN:VEVENT
DTSTART;TZID=America/Los_Angeles:20210623T120000
DTEND;TZID=America/Los_Angeles:20210623T121500
DTSTAMP:20260422T134656
CREATED:20190416T022624Z
LAST-MODIFIED:20190730T235400Z
UID:9201-1624449600-1624450500@cosolargy.org
SUMMARY:Wednesday Communion of Fellowship
DESCRIPTION:Come join us on Wednesdays at 12pm Noon for our Communion of Fellowship at the Chapel of the Holy Child. \nChapel of the Holy Child\n643 Ralston Street\nReno\, NV 89503 United States
URL:https://cosolargy.org/event/wednesday-communion-of-fellowship-2019-04-17-2021-06-23/
LOCATION:Chapel of the Holy Child\, 643 Ralston Street\, Reno\, NV\, 89503\, United States
END:VEVENT
BEGIN:VEVENT
DTSTART;TZID=America/Los_Angeles:20210625T090000
DTEND;TZID=America/Los_Angeles:20210625T091500
DTSTAMP:20260422T134656
CREATED:20190416T023929Z
LAST-MODIFIED:20190416T023929Z
UID:9203-1624611600-1624612500@cosolargy.org
SUMMARY:Friday Prayer & Fellowship Service
DESCRIPTION:Join us every Friday at the Chapel of Roses located at Steamboat Hotsprings for Friday Prayer & Fellowship Service. \nSteamboat Hotsprings\n16010 S. Virginia Street\nReno\, NV 89521\nSteamboat website: https://steamboatsprings.org/
URL:https://cosolargy.org/event/friday-prayer-fellowship-service-2021-06-25/
LOCATION:Chapel of the Roses: Steamboat Hotsprings\, 16010 S. Virginia Street\, Reno\, NV\, 89521\, United States
END:VEVENT
BEGIN:VEVENT
DTSTART;TZID=America/Los_Angeles:20210626T100000
DTEND;TZID=America/Los_Angeles:20210626T110000
DTSTAMP:20260422T134656
CREATED:20190416T020848Z
LAST-MODIFIED:20200319T113906Z
UID:9204-1624701600-1624705200@cosolargy.org
SUMMARY:Saturday Communion of Fellowship
DESCRIPTION:Temporarily Suspended due to the coronavirus. \nOpen to the public. For details call 775-786-7827
URL:https://cosolargy.org/event/communion-of-fellowship-2021-06-26/
LOCATION:Chapel of the Holy Child\, 643 Ralston Street\, Reno\, NV\, 89503\, United States
END:VEVENT
BEGIN:VEVENT
DTSTART;VALUE=DATE:20210627
DTEND;VALUE=DATE:20210628
DTSTAMP:20260422T134656
CREATED:20190326T182647Z
LAST-MODIFIED:20190326T182647Z
UID:9205-1624752000-1624838399@cosolargy.org
SUMMARY:Sunrise Service
DESCRIPTION:Service begins 30 minutes before sunrise. Please consult the local sunrise time to find the correct time to arrive. \nPublic welcome by invitation. Contact us by phone and/or email. \nFor 40 years community members have enjoyed the serenity of this unique desert Sanctuary spread over 1\,200 acres in a mountain valley only 20 minutes from downtown Reno\, where we meet for beautiful sunrises and Community fellowship. The place to go for optimal sun gazing\, to be near nature and for healing the spirit. We participate in open-air services at sunrise at the Red Rock Consecrated Sanctuary.
URL:https://cosolargy.org/event/sunrise-service-2021-06-27/
LOCATION:Red Rock Sanctuary\, Reno\, NV\, United States
END:VEVENT
BEGIN:VEVENT
DTSTART;TZID=America/Los_Angeles:20210630T120000
DTEND;TZID=America/Los_Angeles:20210630T121500
DTSTAMP:20260422T134656
CREATED:20190416T022624Z
LAST-MODIFIED:20190730T235401Z
UID:9207-1625054400-1625055300@cosolargy.org
SUMMARY:Wednesday Communion of Fellowship
DESCRIPTION:Come join us on Wednesdays at 12pm Noon for our Communion of Fellowship at the Chapel of the Holy Child. \nChapel of the Holy Child\n643 Ralston Street\nReno\, NV 89503 United States
URL:https://cosolargy.org/event/wednesday-communion-of-fellowship-2019-04-17-2021-06-30/
LOCATION:Chapel of the Holy Child\, 643 Ralston Street\, Reno\, NV\, 89503\, United States
END:VEVENT
END:VCALENDAR