BEGIN:VCALENDAR
VERSION:2.0
PRODID:-//Cosolargy - ECPv6.9.0//NONSGML v1.0//EN
CALSCALE:GREGORIAN
METHOD:PUBLISH
X-ORIGINAL-URL:https://cosolargy.org
X-WR-CALDESC:Events for Cosolargy
REFRESH-INTERVAL;VALUE=DURATION:PT1H
X-Robots-Tag:noindex
X-PUBLISHED-TTL:PT1H
BEGIN:VTIMEZONE
TZID:America/Los_Angeles
BEGIN:DAYLIGHT
TZOFFSETFROM:-0800
TZOFFSETTO:-0700
TZNAME:PDT
DTSTART:20220313T100000
END:DAYLIGHT
BEGIN:STANDARD
TZOFFSETFROM:-0700
TZOFFSETTO:-0800
TZNAME:PST
DTSTART:20221106T090000
END:STANDARD
END:VTIMEZONE
BEGIN:VEVENT
DTSTART;TZID=America/Los_Angeles:20220401T090000
DTEND;TZID=America/Los_Angeles:20220401T091500
DTSTAMP:20260425T083920
CREATED:20190416T023929Z
LAST-MODIFIED:20190416T023929Z
UID:10033-1648803600-1648804500@cosolargy.org
SUMMARY:Friday Prayer & Fellowship Service
DESCRIPTION:Join us every Friday at the Chapel of Roses located at Steamboat Hotsprings for Friday Prayer & Fellowship Service. \nSteamboat Hotsprings\n16010 S. Virginia Street\nReno\, NV 89521\nSteamboat website: https://steamboatsprings.org/
URL:https://cosolargy.org/event/friday-prayer-fellowship-service-2022-04-01/
LOCATION:Chapel of the Roses: Steamboat Hotsprings\, 16010 S. Virginia Street\, Reno\, NV\, 89521\, United States
END:VEVENT
BEGIN:VEVENT
DTSTART;TZID=America/Los_Angeles:20220402T100000
DTEND;TZID=America/Los_Angeles:20220402T110000
DTSTAMP:20260425T083920
CREATED:20190416T020848Z
LAST-MODIFIED:20190416T020848Z
UID:10034-1648893600-1648897200@cosolargy.org
SUMMARY:Saturday Communion of Fellowship
DESCRIPTION:Temporarily Suspended due to the Corona Virus. \nOpen to the public. For details call 775-786-7827
URL:https://cosolargy.org/event/communion-of-fellowship-2022-03-12-2022-04-02/
LOCATION:Chapel of the Holy Child\, 643 Ralston Street\, Reno\, NV\, 89503\, United States
END:VEVENT
BEGIN:VEVENT
DTSTART;VALUE=DATE:20220403
DTEND;VALUE=DATE:20220404
DTSTAMP:20260425T083920
CREATED:20190326T182647Z
LAST-MODIFIED:20190326T182647Z
UID:10035-1648944000-1649030399@cosolargy.org
SUMMARY:Sunrise Service
DESCRIPTION:Service begins 30 minutes before sunrise. Please consult the local sunrise time to find the correct time to arrive. \nPublic welcome by invitation. Contact us by phone and/or email. \nFor 40 years community members have enjoyed the serenity of this unique desert Sanctuary spread over 1\,200 acres in a mountain valley only 20 minutes from downtown Reno\, where we meet for beautiful sunrises and Community fellowship. The place to go for optimal sun gazing\, to be near nature and for healing the spirit. We participate in open-air services at sunrise at the Red Rock Consecrated Sanctuary.
URL:https://cosolargy.org/event/sunrise-service-2022-04-03/
LOCATION:Red Rock Sanctuary\, Reno\, NV\, United States
END:VEVENT
BEGIN:VEVENT
DTSTART;TZID=America/Los_Angeles:20220406T120000
DTEND;TZID=America/Los_Angeles:20220406T121500
DTSTAMP:20260425T083920
CREATED:20190416T022624Z
LAST-MODIFIED:20190416T022624Z
UID:10036-1649246400-1649247300@cosolargy.org
SUMMARY:Wednesday Communion of Fellowship
DESCRIPTION:Come join us on Wednesdays at 12pm Noon for our Communion of Fellowship at the Chapel of the Holy Child. \nChapel of the Holy Child\n643 Ralston Street\nReno\, NV 89503 United States
URL:https://cosolargy.org/event/wednesday-communion-of-fellowship-2019-04-17-2022-04-06/
LOCATION:Chapel of the Holy Child\, 643 Ralston Street\, Reno\, NV\, 89503\, United States
END:VEVENT
BEGIN:VEVENT
DTSTART;TZID=America/Los_Angeles:20220408T090000
DTEND;TZID=America/Los_Angeles:20220408T091500
DTSTAMP:20260425T083920
CREATED:20190416T023929Z
LAST-MODIFIED:20190416T023929Z
UID:10041-1649408400-1649409300@cosolargy.org
SUMMARY:Friday Prayer & Fellowship Service
DESCRIPTION:Join us every Friday at the Chapel of Roses located at Steamboat Hotsprings for Friday Prayer & Fellowship Service. \nSteamboat Hotsprings\n16010 S. Virginia Street\nReno\, NV 89521\nSteamboat website: https://steamboatsprings.org/
URL:https://cosolargy.org/event/friday-prayer-fellowship-service-2022-04-08/
LOCATION:Chapel of the Roses: Steamboat Hotsprings\, 16010 S. Virginia Street\, Reno\, NV\, 89521\, United States
END:VEVENT
BEGIN:VEVENT
DTSTART;TZID=America/Los_Angeles:20220409T100000
DTEND;TZID=America/Los_Angeles:20220409T110000
DTSTAMP:20260425T083920
CREATED:20190416T020848Z
LAST-MODIFIED:20190416T020848Z
UID:10046-1649498400-1649502000@cosolargy.org
SUMMARY:Saturday Communion of Fellowship
DESCRIPTION:Temporarily Suspended due to the Corona Virus. \nOpen to the public. For details call 775-786-7827
URL:https://cosolargy.org/event/communion-of-fellowship-2022-03-12-2022-04-09/
LOCATION:Chapel of the Holy Child\, 643 Ralston Street\, Reno\, NV\, 89503\, United States
END:VEVENT
BEGIN:VEVENT
DTSTART;VALUE=DATE:20220410
DTEND;VALUE=DATE:20220411
DTSTAMP:20260425T083920
CREATED:20190326T182647Z
LAST-MODIFIED:20190326T182647Z
UID:10047-1649548800-1649635199@cosolargy.org
SUMMARY:Sunrise Service
DESCRIPTION:Service begins 30 minutes before sunrise. Please consult the local sunrise time to find the correct time to arrive. \nPublic welcome by invitation. Contact us by phone and/or email. \nFor 40 years community members have enjoyed the serenity of this unique desert Sanctuary spread over 1\,200 acres in a mountain valley only 20 minutes from downtown Reno\, where we meet for beautiful sunrises and Community fellowship. The place to go for optimal sun gazing\, to be near nature and for healing the spirit. We participate in open-air services at sunrise at the Red Rock Consecrated Sanctuary.
URL:https://cosolargy.org/event/sunrise-service-2022-04-10/
LOCATION:Red Rock Sanctuary\, Reno\, NV\, United States
END:VEVENT
BEGIN:VEVENT
DTSTART;TZID=America/Los_Angeles:20220413T120000
DTEND;TZID=America/Los_Angeles:20220413T121500
DTSTAMP:20260425T083920
CREATED:20190416T022624Z
LAST-MODIFIED:20190416T022624Z
UID:10048-1649851200-1649852100@cosolargy.org
SUMMARY:Wednesday Communion of Fellowship
DESCRIPTION:Come join us on Wednesdays at 12pm Noon for our Communion of Fellowship at the Chapel of the Holy Child. \nChapel of the Holy Child\n643 Ralston Street\nReno\, NV 89503 United States
URL:https://cosolargy.org/event/wednesday-communion-of-fellowship-2019-04-17-2022-04-13/
LOCATION:Chapel of the Holy Child\, 643 Ralston Street\, Reno\, NV\, 89503\, United States
END:VEVENT
BEGIN:VEVENT
DTSTART;TZID=America/Los_Angeles:20220415T090000
DTEND;TZID=America/Los_Angeles:20220415T091500
DTSTAMP:20260425T083920
CREATED:20190416T023929Z
LAST-MODIFIED:20190416T023929Z
UID:10067-1650013200-1650014100@cosolargy.org
SUMMARY:Friday Prayer & Fellowship Service
DESCRIPTION:Join us every Friday at the Chapel of Roses located at Steamboat Hotsprings for Friday Prayer & Fellowship Service. \nSteamboat Hotsprings\n16010 S. Virginia Street\nReno\, NV 89521\nSteamboat website: https://steamboatsprings.org/
URL:https://cosolargy.org/event/friday-prayer-fellowship-service-2022-04-15/
LOCATION:Chapel of the Roses: Steamboat Hotsprings\, 16010 S. Virginia Street\, Reno\, NV\, 89521\, United States
END:VEVENT
BEGIN:VEVENT
DTSTART;TZID=America/Los_Angeles:20220416T100000
DTEND;TZID=America/Los_Angeles:20220416T110000
DTSTAMP:20260425T083920
CREATED:20190416T020848Z
LAST-MODIFIED:20190416T020848Z
UID:10071-1650103200-1650106800@cosolargy.org
SUMMARY:Saturday Communion of Fellowship
DESCRIPTION:Temporarily Suspended due to the Corona Virus. \nOpen to the public. For details call 775-786-7827
URL:https://cosolargy.org/event/communion-of-fellowship-2022-03-12-2022-04-16/
LOCATION:Chapel of the Holy Child\, 643 Ralston Street\, Reno\, NV\, 89503\, United States
END:VEVENT
BEGIN:VEVENT
DTSTART;VALUE=DATE:20220417
DTEND;VALUE=DATE:20220418
DTSTAMP:20260425T083920
CREATED:20190326T182647Z
LAST-MODIFIED:20190326T182647Z
UID:10076-1650153600-1650239999@cosolargy.org
SUMMARY:Sunrise Service
DESCRIPTION:Service begins 30 minutes before sunrise. Please consult the local sunrise time to find the correct time to arrive. \nPublic welcome by invitation. Contact us by phone and/or email. \nFor 40 years community members have enjoyed the serenity of this unique desert Sanctuary spread over 1\,200 acres in a mountain valley only 20 minutes from downtown Reno\, where we meet for beautiful sunrises and Community fellowship. The place to go for optimal sun gazing\, to be near nature and for healing the spirit. We participate in open-air services at sunrise at the Red Rock Consecrated Sanctuary.
URL:https://cosolargy.org/event/sunrise-service-2022-04-17/
LOCATION:Red Rock Sanctuary\, Reno\, NV\, United States
END:VEVENT
BEGIN:VEVENT
DTSTART;TZID=America/Los_Angeles:20220420T120000
DTEND;TZID=America/Los_Angeles:20220420T121500
DTSTAMP:20260425T083920
CREATED:20190416T022624Z
LAST-MODIFIED:20190416T022624Z
UID:10101-1650456000-1650456900@cosolargy.org
SUMMARY:Wednesday Communion of Fellowship
DESCRIPTION:Come join us on Wednesdays at 12pm Noon for our Communion of Fellowship at the Chapel of the Holy Child. \nChapel of the Holy Child\n643 Ralston Street\nReno\, NV 89503 United States
URL:https://cosolargy.org/event/wednesday-communion-of-fellowship-2019-04-17-2022-04-20/
LOCATION:Chapel of the Holy Child\, 643 Ralston Street\, Reno\, NV\, 89503\, United States
END:VEVENT
BEGIN:VEVENT
DTSTART;TZID=America/Los_Angeles:20220422T090000
DTEND;TZID=America/Los_Angeles:20220422T091500
DTSTAMP:20260425T083920
CREATED:20190416T023929Z
LAST-MODIFIED:20190416T023929Z
UID:10112-1650618000-1650618900@cosolargy.org
SUMMARY:Friday Prayer & Fellowship Service
DESCRIPTION:Join us every Friday at the Chapel of Roses located at Steamboat Hotsprings for Friday Prayer & Fellowship Service. \nSteamboat Hotsprings\n16010 S. Virginia Street\nReno\, NV 89521\nSteamboat website: https://steamboatsprings.org/
URL:https://cosolargy.org/event/friday-prayer-fellowship-service-2022-04-22/
LOCATION:Chapel of the Roses: Steamboat Hotsprings\, 16010 S. Virginia Street\, Reno\, NV\, 89521\, United States
END:VEVENT
BEGIN:VEVENT
DTSTART;TZID=America/Los_Angeles:20220423T100000
DTEND;TZID=America/Los_Angeles:20220423T110000
DTSTAMP:20260425T083920
CREATED:20190416T020848Z
LAST-MODIFIED:20190416T020848Z
UID:10115-1650708000-1650711600@cosolargy.org
SUMMARY:Saturday Communion of Fellowship
DESCRIPTION:Temporarily Suspended due to the Corona Virus. \nOpen to the public. For details call 775-786-7827
URL:https://cosolargy.org/event/communion-of-fellowship-2022-03-12-2022-04-23/
LOCATION:Chapel of the Holy Child\, 643 Ralston Street\, Reno\, NV\, 89503\, United States
END:VEVENT
BEGIN:VEVENT
DTSTART;VALUE=DATE:20220424
DTEND;VALUE=DATE:20220425
DTSTAMP:20260425T083920
CREATED:20190326T182647Z
LAST-MODIFIED:20190326T182647Z
UID:10117-1650758400-1650844799@cosolargy.org
SUMMARY:Sunrise Service
DESCRIPTION:Service begins 30 minutes before sunrise. Please consult the local sunrise time to find the correct time to arrive. \nPublic welcome by invitation. Contact us by phone and/or email. \nFor 40 years community members have enjoyed the serenity of this unique desert Sanctuary spread over 1\,200 acres in a mountain valley only 20 minutes from downtown Reno\, where we meet for beautiful sunrises and Community fellowship. The place to go for optimal sun gazing\, to be near nature and for healing the spirit. We participate in open-air services at sunrise at the Red Rock Consecrated Sanctuary.
URL:https://cosolargy.org/event/sunrise-service-2022-04-24/
LOCATION:Red Rock Sanctuary\, Reno\, NV\, United States
END:VEVENT
BEGIN:VEVENT
DTSTART;TZID=America/Los_Angeles:20220427T120000
DTEND;TZID=America/Los_Angeles:20220427T121500
DTSTAMP:20260425T083920
CREATED:20190416T022624Z
LAST-MODIFIED:20190416T022624Z
UID:10159-1651060800-1651061700@cosolargy.org
SUMMARY:Wednesday Communion of Fellowship
DESCRIPTION:Come join us on Wednesdays at 12pm Noon for our Communion of Fellowship at the Chapel of the Holy Child. \nChapel of the Holy Child\n643 Ralston Street\nReno\, NV 89503 United States
URL:https://cosolargy.org/event/wednesday-communion-of-fellowship-2019-04-17-2022-04-27/
LOCATION:Chapel of the Holy Child\, 643 Ralston Street\, Reno\, NV\, 89503\, United States
END:VEVENT
BEGIN:VEVENT
DTSTART;TZID=America/Los_Angeles:20220429T090000
DTEND;TZID=America/Los_Angeles:20220429T091500
DTSTAMP:20260425T083920
CREATED:20190416T023929Z
LAST-MODIFIED:20190416T023929Z
UID:10206-1651222800-1651223700@cosolargy.org
SUMMARY:Friday Prayer & Fellowship Service
DESCRIPTION:Join us every Friday at the Chapel of Roses located at Steamboat Hotsprings for Friday Prayer & Fellowship Service. \nSteamboat Hotsprings\n16010 S. Virginia Street\nReno\, NV 89521\nSteamboat website: https://steamboatsprings.org/
URL:https://cosolargy.org/event/friday-prayer-fellowship-service-2022-04-29/
LOCATION:Chapel of the Roses: Steamboat Hotsprings\, 16010 S. Virginia Street\, Reno\, NV\, 89521\, United States
END:VEVENT
BEGIN:VEVENT
DTSTART;TZID=America/Los_Angeles:20220430T100000
DTEND;TZID=America/Los_Angeles:20220430T110000
DTSTAMP:20260425T083920
CREATED:20190416T020848Z
LAST-MODIFIED:20190416T020848Z
UID:10207-1651312800-1651316400@cosolargy.org
SUMMARY:Saturday Communion of Fellowship
DESCRIPTION:Temporarily Suspended due to the Corona Virus. \nOpen to the public. For details call 775-786-7827
URL:https://cosolargy.org/event/communion-of-fellowship-2022-03-12-2022-04-30/
LOCATION:Chapel of the Holy Child\, 643 Ralston Street\, Reno\, NV\, 89503\, United States
END:VEVENT
END:VCALENDAR