BEGIN:VCALENDAR
VERSION:2.0
PRODID:-//Cosolargy - ECPv6.9.0//NONSGML v1.0//EN
CALSCALE:GREGORIAN
METHOD:PUBLISH
X-WR-CALNAME:Cosolargy
X-ORIGINAL-URL:https://cosolargy.org
X-WR-CALDESC:Events for Cosolargy
REFRESH-INTERVAL;VALUE=DURATION:PT1H
X-Robots-Tag:noindex
X-PUBLISHED-TTL:PT1H
BEGIN:VTIMEZONE
TZID:America/Los_Angeles
BEGIN:DAYLIGHT
TZOFFSETFROM:-0800
TZOFFSETTO:-0700
TZNAME:PDT
DTSTART:20220313T100000
END:DAYLIGHT
BEGIN:STANDARD
TZOFFSETFROM:-0700
TZOFFSETTO:-0800
TZNAME:PST
DTSTART:20221106T090000
END:STANDARD
END:VTIMEZONE
BEGIN:VEVENT
DTSTART;TZID=America/Los_Angeles:20220902T090000
DTEND;TZID=America/Los_Angeles:20220902T091500
DTSTAMP:20260425T152934
CREATED:20190416T023929Z
LAST-MODIFIED:20190416T023929Z
UID:10441-1662109200-1662110100@cosolargy.org
SUMMARY:Friday Prayer & Fellowship Service
DESCRIPTION:Join us every Friday at the Chapel of Roses located at Steamboat Hotsprings for Friday Prayer & Fellowship Service. \nSteamboat Hotsprings\n16010 S. Virginia Street\nReno\, NV 89521\nSteamboat website: https://steamboatsprings.org/
URL:https://cosolargy.org/event/friday-prayer-fellowship-service-2022-09-02/
LOCATION:Chapel of the Roses: Steamboat Hotsprings\, 16010 S. Virginia Street\, Reno\, NV\, 89521\, United States
END:VEVENT
BEGIN:VEVENT
DTSTART;TZID=America/Los_Angeles:20220903T100000
DTEND;TZID=America/Los_Angeles:20220903T110000
DTSTAMP:20260425T152934
CREATED:20190416T020848Z
LAST-MODIFIED:20190416T020848Z
UID:10442-1662199200-1662202800@cosolargy.org
SUMMARY:Saturday Communion of Fellowship
DESCRIPTION:Temporarily Suspended due to the Corona Virus. \nOpen to the public. For details call 775-786-7827
URL:https://cosolargy.org/event/communion-of-fellowship-2022-03-12-2022-09-03/
LOCATION:Chapel of the Holy Child\, 643 Ralston Street\, Reno\, NV\, 89503\, United States
END:VEVENT
BEGIN:VEVENT
DTSTART;VALUE=DATE:20220904
DTEND;VALUE=DATE:20220905
DTSTAMP:20260425T152934
CREATED:20190326T182647Z
LAST-MODIFIED:20190326T182647Z
UID:10443-1662249600-1662335999@cosolargy.org
SUMMARY:Sunrise Service
DESCRIPTION:Service begins 30 minutes before sunrise. Please consult the local sunrise time to find the correct time to arrive. \nPublic welcome by invitation. Contact us by phone and/or email. \nFor 40 years community members have enjoyed the serenity of this unique desert Sanctuary spread over 1\,200 acres in a mountain valley only 20 minutes from downtown Reno\, where we meet for beautiful sunrises and Community fellowship. The place to go for optimal sun gazing\, to be near nature and for healing the spirit. We participate in open-air services at sunrise at the Red Rock Consecrated Sanctuary.
URL:https://cosolargy.org/event/sunrise-service-2022-09-04/
LOCATION:Red Rock Sanctuary\, Reno\, NV\, United States
END:VEVENT
BEGIN:VEVENT
DTSTART;TZID=America/Los_Angeles:20220907T090000
DTEND;TZID=America/Los_Angeles:20220912T170000
DTSTAMP:20260425T152934
CREATED:20220209T205915Z
LAST-MODIFIED:20220402T191743Z
UID:11099-1662541200-1663002000@cosolargy.org
SUMMARY:Annual Convocation
DESCRIPTION:This year we will have a Convocation in September for all students and active consociates. The convocation starts September 7th and runs through September 12th. \nThe planned schedule includes:\n\n\nResidence Training: Color & Sacred Imagery\n\nReadings: The Jamil Commentaries\n\nPresentations:\n\nThe Three Communions\nSolar Cultures of Africa\nLiturgical Chimes and Hand Gestures\nOrigins of Shingon Buddhism\nWhat is Metanoia ?\nThe Solar Cross and The Sacred Calendar\nThe Essene Legacy\nNew Scientific views of Consciousness\n\n\n\nState of The Community Address\n\n\n\nUpdates on Japan\, Mexico and Peru\n\n\n\nWellness Sessions at Steamboat Hot Springs\n\n\n\nFirst\, Second\, and Third Degree Ordinations\n\n\n\nSunrise Divine Services
URL:https://cosolargy.org/event/annual-convocation-2/
ATTACH;FMTTYPE=image/jpeg:https://cosolargy.org/wp-content/uploads/2022/02/Cross_Enlighten.jpg
END:VEVENT
BEGIN:VEVENT
DTSTART;TZID=America/Los_Angeles:20220907T120000
DTEND;TZID=America/Los_Angeles:20220907T121500
DTSTAMP:20260425T152934
CREATED:20190416T022624Z
LAST-MODIFIED:20190416T022624Z
UID:10445-1662552000-1662552900@cosolargy.org
SUMMARY:Wednesday Communion of Fellowship
DESCRIPTION:Come join us on Wednesdays at 12pm Noon for our Communion of Fellowship at the Chapel of the Holy Child. \nChapel of the Holy Child\n643 Ralston Street\nReno\, NV 89503 United States
URL:https://cosolargy.org/event/wednesday-communion-of-fellowship-2019-04-17-2022-09-07/
LOCATION:Chapel of the Holy Child\, 643 Ralston Street\, Reno\, NV\, 89503\, United States
END:VEVENT
BEGIN:VEVENT
DTSTART;TZID=America/Los_Angeles:20220909T090000
DTEND;TZID=America/Los_Angeles:20220909T091500
DTSTAMP:20260425T152934
CREATED:20190416T023929Z
LAST-MODIFIED:20190416T023929Z
UID:10446-1662714000-1662714900@cosolargy.org
SUMMARY:Friday Prayer & Fellowship Service
DESCRIPTION:Join us every Friday at the Chapel of Roses located at Steamboat Hotsprings for Friday Prayer & Fellowship Service. \nSteamboat Hotsprings\n16010 S. Virginia Street\nReno\, NV 89521\nSteamboat website: https://steamboatsprings.org/
URL:https://cosolargy.org/event/friday-prayer-fellowship-service-2022-09-09/
LOCATION:Chapel of the Roses: Steamboat Hotsprings\, 16010 S. Virginia Street\, Reno\, NV\, 89521\, United States
END:VEVENT
BEGIN:VEVENT
DTSTART;TZID=America/Los_Angeles:20220910T100000
DTEND;TZID=America/Los_Angeles:20220910T110000
DTSTAMP:20260425T152934
CREATED:20190416T020848Z
LAST-MODIFIED:20190416T020848Z
UID:10448-1662804000-1662807600@cosolargy.org
SUMMARY:Saturday Communion of Fellowship
DESCRIPTION:Temporarily Suspended due to the Corona Virus. \nOpen to the public. For details call 775-786-7827
URL:https://cosolargy.org/event/communion-of-fellowship-2022-03-12-2022-09-10/
LOCATION:Chapel of the Holy Child\, 643 Ralston Street\, Reno\, NV\, 89503\, United States
END:VEVENT
BEGIN:VEVENT
DTSTART;VALUE=DATE:20220911
DTEND;VALUE=DATE:20220912
DTSTAMP:20260425T152934
CREATED:20190326T182647Z
LAST-MODIFIED:20190326T182647Z
UID:10449-1662854400-1662940799@cosolargy.org
SUMMARY:Sunrise Service
DESCRIPTION:Service begins 30 minutes before sunrise. Please consult the local sunrise time to find the correct time to arrive. \nPublic welcome by invitation. Contact us by phone and/or email. \nFor 40 years community members have enjoyed the serenity of this unique desert Sanctuary spread over 1\,200 acres in a mountain valley only 20 minutes from downtown Reno\, where we meet for beautiful sunrises and Community fellowship. The place to go for optimal sun gazing\, to be near nature and for healing the spirit. We participate in open-air services at sunrise at the Red Rock Consecrated Sanctuary.
URL:https://cosolargy.org/event/sunrise-service-2022-09-11/
LOCATION:Red Rock Sanctuary\, Reno\, NV\, United States
END:VEVENT
BEGIN:VEVENT
DTSTART;TZID=America/Los_Angeles:20220914T120000
DTEND;TZID=America/Los_Angeles:20220914T121500
DTSTAMP:20260425T152934
CREATED:20190416T022624Z
LAST-MODIFIED:20190416T022624Z
UID:10450-1663156800-1663157700@cosolargy.org
SUMMARY:Wednesday Communion of Fellowship
DESCRIPTION:Come join us on Wednesdays at 12pm Noon for our Communion of Fellowship at the Chapel of the Holy Child. \nChapel of the Holy Child\n643 Ralston Street\nReno\, NV 89503 United States
URL:https://cosolargy.org/event/wednesday-communion-of-fellowship-2019-04-17-2022-09-14/
LOCATION:Chapel of the Holy Child\, 643 Ralston Street\, Reno\, NV\, 89503\, United States
END:VEVENT
BEGIN:VEVENT
DTSTART;TZID=America/Los_Angeles:20220916T090000
DTEND;TZID=America/Los_Angeles:20220916T091500
DTSTAMP:20260425T152934
CREATED:20190416T023929Z
LAST-MODIFIED:20190416T023929Z
UID:10453-1663318800-1663319700@cosolargy.org
SUMMARY:Friday Prayer & Fellowship Service
DESCRIPTION:Join us every Friday at the Chapel of Roses located at Steamboat Hotsprings for Friday Prayer & Fellowship Service. \nSteamboat Hotsprings\n16010 S. Virginia Street\nReno\, NV 89521\nSteamboat website: https://steamboatsprings.org/
URL:https://cosolargy.org/event/friday-prayer-fellowship-service-2022-09-16/
LOCATION:Chapel of the Roses: Steamboat Hotsprings\, 16010 S. Virginia Street\, Reno\, NV\, 89521\, United States
END:VEVENT
BEGIN:VEVENT
DTSTART;TZID=America/Los_Angeles:20220917T100000
DTEND;TZID=America/Los_Angeles:20220917T110000
DTSTAMP:20260425T152934
CREATED:20190416T020848Z
LAST-MODIFIED:20190416T020848Z
UID:10455-1663408800-1663412400@cosolargy.org
SUMMARY:Saturday Communion of Fellowship
DESCRIPTION:Temporarily Suspended due to the Corona Virus. \nOpen to the public. For details call 775-786-7827
URL:https://cosolargy.org/event/communion-of-fellowship-2022-03-12-2022-09-17/
LOCATION:Chapel of the Holy Child\, 643 Ralston Street\, Reno\, NV\, 89503\, United States
END:VEVENT
BEGIN:VEVENT
DTSTART;VALUE=DATE:20220918
DTEND;VALUE=DATE:20220919
DTSTAMP:20260425T152934
CREATED:20190326T182647Z
LAST-MODIFIED:20190326T182647Z
UID:10456-1663459200-1663545599@cosolargy.org
SUMMARY:Sunrise Service
DESCRIPTION:Service begins 30 minutes before sunrise. Please consult the local sunrise time to find the correct time to arrive. \nPublic welcome by invitation. Contact us by phone and/or email. \nFor 40 years community members have enjoyed the serenity of this unique desert Sanctuary spread over 1\,200 acres in a mountain valley only 20 minutes from downtown Reno\, where we meet for beautiful sunrises and Community fellowship. The place to go for optimal sun gazing\, to be near nature and for healing the spirit. We participate in open-air services at sunrise at the Red Rock Consecrated Sanctuary.
URL:https://cosolargy.org/event/sunrise-service-2022-09-18/
LOCATION:Red Rock Sanctuary\, Reno\, NV\, United States
END:VEVENT
BEGIN:VEVENT
DTSTART;TZID=America/Los_Angeles:20220921T120000
DTEND;TZID=America/Los_Angeles:20220921T121500
DTSTAMP:20260425T152934
CREATED:20190416T022624Z
LAST-MODIFIED:20190416T022624Z
UID:10462-1663761600-1663762500@cosolargy.org
SUMMARY:Wednesday Communion of Fellowship
DESCRIPTION:Come join us on Wednesdays at 12pm Noon for our Communion of Fellowship at the Chapel of the Holy Child. \nChapel of the Holy Child\n643 Ralston Street\nReno\, NV 89503 United States
URL:https://cosolargy.org/event/wednesday-communion-of-fellowship-2019-04-17-2022-09-21/
LOCATION:Chapel of the Holy Child\, 643 Ralston Street\, Reno\, NV\, 89503\, United States
END:VEVENT
BEGIN:VEVENT
DTSTART;TZID=America/Los_Angeles:20220923T090000
DTEND;TZID=America/Los_Angeles:20220923T091500
DTSTAMP:20260425T152934
CREATED:20190416T023929Z
LAST-MODIFIED:20190416T023929Z
UID:10467-1663923600-1663924500@cosolargy.org
SUMMARY:Friday Prayer & Fellowship Service
DESCRIPTION:Join us every Friday at the Chapel of Roses located at Steamboat Hotsprings for Friday Prayer & Fellowship Service. \nSteamboat Hotsprings\n16010 S. Virginia Street\nReno\, NV 89521\nSteamboat website: https://steamboatsprings.org/
URL:https://cosolargy.org/event/friday-prayer-fellowship-service-2022-09-23/
LOCATION:Chapel of the Roses: Steamboat Hotsprings\, 16010 S. Virginia Street\, Reno\, NV\, 89521\, United States
END:VEVENT
BEGIN:VEVENT
DTSTART;TZID=America/Los_Angeles:20220924T100000
DTEND;TZID=America/Los_Angeles:20220924T110000
DTSTAMP:20260425T152934
CREATED:20190416T020848Z
LAST-MODIFIED:20190416T020848Z
UID:10471-1664013600-1664017200@cosolargy.org
SUMMARY:Saturday Communion of Fellowship
DESCRIPTION:Temporarily Suspended due to the Corona Virus. \nOpen to the public. For details call 775-786-7827
URL:https://cosolargy.org/event/communion-of-fellowship-2022-03-12-2022-09-24/
LOCATION:Chapel of the Holy Child\, 643 Ralston Street\, Reno\, NV\, 89503\, United States
END:VEVENT
BEGIN:VEVENT
DTSTART;VALUE=DATE:20220925
DTEND;VALUE=DATE:20220926
DTSTAMP:20260425T152934
CREATED:20190326T182647Z
LAST-MODIFIED:20190326T182647Z
UID:10472-1664064000-1664150399@cosolargy.org
SUMMARY:Sunrise Service
DESCRIPTION:Service begins 30 minutes before sunrise. Please consult the local sunrise time to find the correct time to arrive. \nPublic welcome by invitation. Contact us by phone and/or email. \nFor 40 years community members have enjoyed the serenity of this unique desert Sanctuary spread over 1\,200 acres in a mountain valley only 20 minutes from downtown Reno\, where we meet for beautiful sunrises and Community fellowship. The place to go for optimal sun gazing\, to be near nature and for healing the spirit. We participate in open-air services at sunrise at the Red Rock Consecrated Sanctuary.
URL:https://cosolargy.org/event/sunrise-service-2022-09-25/
LOCATION:Red Rock Sanctuary\, Reno\, NV\, United States
END:VEVENT
BEGIN:VEVENT
DTSTART;TZID=America/Los_Angeles:20220928T120000
DTEND;TZID=America/Los_Angeles:20220928T121500
DTSTAMP:20260425T152934
CREATED:20190416T022624Z
LAST-MODIFIED:20190416T022624Z
UID:10474-1664366400-1664367300@cosolargy.org
SUMMARY:Wednesday Communion of Fellowship
DESCRIPTION:Come join us on Wednesdays at 12pm Noon for our Communion of Fellowship at the Chapel of the Holy Child. \nChapel of the Holy Child\n643 Ralston Street\nReno\, NV 89503 United States
URL:https://cosolargy.org/event/wednesday-communion-of-fellowship-2019-04-17-2022-09-28/
LOCATION:Chapel of the Holy Child\, 643 Ralston Street\, Reno\, NV\, 89503\, United States
END:VEVENT
BEGIN:VEVENT
DTSTART;TZID=America/Los_Angeles:20220930T090000
DTEND;TZID=America/Los_Angeles:20220930T091500
DTSTAMP:20260425T152934
CREATED:20190416T023929Z
LAST-MODIFIED:20190416T023929Z
UID:10476-1664528400-1664529300@cosolargy.org
SUMMARY:Friday Prayer & Fellowship Service
DESCRIPTION:Join us every Friday at the Chapel of Roses located at Steamboat Hotsprings for Friday Prayer & Fellowship Service. \nSteamboat Hotsprings\n16010 S. Virginia Street\nReno\, NV 89521\nSteamboat website: https://steamboatsprings.org/
URL:https://cosolargy.org/event/friday-prayer-fellowship-service-2022-09-30/
LOCATION:Chapel of the Roses: Steamboat Hotsprings\, 16010 S. Virginia Street\, Reno\, NV\, 89521\, United States
END:VEVENT
END:VCALENDAR